Workbook

Sheet SAŽETAK
B2: Na temelju članka 30. Pravilnika o polugodišnjem i godišnjem izvještaju o izvršenju proračuna i financijskog plana ("Narodne novine" , broj 85/23) i članka 54. Statuta Dječjeg vrtića Bregunica Novo Virje, KLASA: 011-03/22-01/01, URBROJ: 2137-94-22-2 od 28. prosinca 2022. godine , Upravno vijeće Dječjeg vrtića Bregunica na 18. sjednici održanoj 28. ožujka 2024. godine, usvojilo je
B6: GODIŠNJI IZVJEŠTAJ O IZVRŠENJU FINANCIJSKOG PLANA DJEČJEG VRTIĆA BREGUNICA NOVO VIRJE ZA 2023. GODINU
B8: I. OPĆI DIO
B10: Članak 1.
B12: Financijski plan DV Bregunica Novo Virje za 2023. godinu i projekcijama za 2024. i 2025 .godinu (KLASA:400-02/22-01/05, URBROJ:2137-94-22-1 od 29. prosinca 2022.godine) i Izmjene Financijskog plana DV Bregunica ( KLASA: 400-02/23-01/04, URBROJ: 2137-94-23-1 od 28. prosinca 2023. godine) u daljnjem tekstu Financijski plan, izvršen je kako slijedi:
B16: SAŽETAK RAČUNA PRIHODA I RASHODA I RAČUNA FINANCIRANJA
B18: SAŽETAK RAČUNA PRIHODA I RASHODA
B19: BROJČANA OZNAKA I NAZIV | G19: OSTVARENJE/ IZVRŠENJE 2022. | H19: IZVORNI PLAN ILI REBALANS 2023.* | I19: OSTVARENJE/IZVRŠENJE 2023. | J19: INDEKS | K19: INDEKS**
B20: 1 | G20: 2 | H20: 3 | I20: 4 | J20: 5=4/2*100 | K20: 6=4/3*100
B21: PRIHODI UKUPNO | G21: =G22+G23 -> 131499.02 | H21: =H22+H23 -> 145840 | I21: =I22+I23 -> 143321.66 | J21: =I21/G21*100 -> 108.99067 | K21: =I21/H21*100 -> 98.273217
B22: 6 PRIHODI POSLOVANJA | G22: =' Račun prihoda i rashoda'!G13 -> 131499.02 | H22: =' Račun prihoda i rashoda'!H13 -> 145840 | I22: =' Račun prihoda i rashoda'!I13 -> 143321.66 | J22: =I22/G22*100 -> 108.99067 | K22: =I22/H22*100 -> 98.273217
B23: 7 PRIHODI OD PRODAJE NEFINANCIJSKE IMOVINE
B24: RASHODI UKUPNO | G24: =G25+G26 -> 130475.56 | H24: =H25+H26 -> 145840 | I24: =I25+I26 -> 143876.72 | J24: =I24/G24*100 -> 110.27101 | K24: =I24/H24*100 -> 98.653812
B25: 3 RASHODI POSLOVANJA | G25: =' Račun prihoda i rashoda'!G40 -> 130475.56 | H25: =' Račun prihoda i rashoda'!H40 -> 145629 | I25: =' Račun prihoda i rashoda'!I40 -> 143666.12 | J25: =I25/G25*100 -> 110.1096 | K25: =I25/H25*100 -> 98.652137
B26: 4 RASHODI ZA NABAVU NEFINANCIJSKE IMOVINE | G26: =' Račun prihoda i rashoda'!G80 -> 0 | H26: =' Račun prihoda i rashoda'!H80 -> 211 | I26: =' Račun prihoda i rashoda'!I80 -> 210.6 | K26: =I26/H26*100 -> 99.810427
B27: RAZLIKA - VIŠAK MANJAK | G27: =G21-G24 -> 1023.46 | H27: =H21-H24 -> 0 | I27: =I21-I24 -> -555.06 | J27: =I27/G27*100 -> -54.233678
B29: SAŽETAK RAČUNA FINANCIRANJA
B30: BROJČANA OZNAKA I NAZIV | G30: OSTVARENJE/ IZVRŠENJE 2022. | H30: IZVORNI PLAN ILI REBALANS 2023.* | I30: OSTVARENJE/IZVRŠENJE 2023. | J30: INDEKS | K30: INDEKS**
B31: 1 | G31: 2 | H31: 3 | I31: 4 | J31: 5=4/2*100 | K31: 6=4/3*100
B32: 8 PRIMICI OD FINANCIJSKE IMOVINE I ZADUŽIVANJA
B33: 5 IZDACI ZA FINANCIJSKU IMOVINU I OTPLATE ZAJMOVA
B34: RAZLIKA PRIMITAKA I IZDATAKA
B35: PRENESENI VIŠAK/MANJAK IZ PRETHODNE GODINE | G35: -9147.74 | I35: -8124.28 | J35: =I35/G35*100 -> 88.811881
B36: PRIJENOS VIŠKA/MANJKA U SLJEDEĆE RAZDOBLJE | G36: =G27+G35 -> -8124.28 | I36: =I27+I35 -> -8679.34 | J36: =I36/G36*100 -> 106.83211

Sheet  Račun prihoda i rashoda
B2: I. OPĆI DIO
B4: Članak 2.
B6: RAČUN PRIHODA I RASHODA
B8: IZVJEŠTAJ O PRIHODIMA I RASHODIMA PREMA EKONOMSKOJ KLASIFIKACIJI
B10: BROJČANA OZNAKA I NAZIV | G10: OSTVARENJE/IZVRŠENJE 2022. | H10: IZVORNI PLAN ILI REBALANS 2023.* | I10: OSTVARENJE/IZVRŠENJE 2023. | J10: INDEKS | K10: INDEKS**
B11: 1 | G11: 2 | H11: 3 | I11: 4 | J11: 5=4/2*100 | K11: 6=4/3*100
F12: UKUPNI PRIHODI | G12: =G13 -> 131499.02 | H12: =H13 -> 145840 | I12: =I13 -> 143321.66 | J12: =I12/G12*100 -> 108.99067 | K12: =I12/H12*100 -> 98.273217
B13: 6 | F13: Prihodi poslovanja | G13: =G20+G24+G14+G17 -> 131499.02 | H13: =H20+H24+H14+H17 -> 145840 | I13: =I20+I24+I14+I17 -> 143321.66 | J13: =I13/G13*100 -> 108.99067 | K13: =I13/H13*100 -> 98.273217
C14: 63 | F14: Pomoći iz inozemstva i od subjekata unutar općeg proračuna | G14: =G15 -> 278.72 | H14: =H15 -> 207 | I14: =I15 -> 144 | J14: =I14/G14*100 -> 51.664753 | K14: =I14/H14*100 -> 69.565217
D15: 636 | F15: Pomoći proračunskim korisnicima iz proračuna koji im nije nadležan | G15: =G16 -> 278.72 | H15: 207 | I15: =I16 -> 144 | J15: =I15/G15*100 -> 51.664753 | K15: =I15/H15*100 -> 69.565217
E16: 6361 | F16: Tekuće pomoći iz državnog proračuna proračunskim korisnicima proračuna JLP®S | G16: 278.72 | I16: 144 | J16: =I16/G16*100 -> 51.664753
C17: 65 | F17: Prihodi pd upravnih i administrativnih pristojbi, pristojbi po posemnim propisima i naknada | G17: =G18 -> 20712.99 | H17: =H18 -> 25596 | I17: =I18 -> 25340.34 | K17: =I17/H17*100 -> 99.001172
D18: 652 | F18: Prihodi po posebnim propisima | G18: =G19 -> 20712.99 | H18: 25596 | I18: =I19 -> 25340.34 | K18: =I18/H18*100 -> 99.001172
E19: 6526 | F19: Ostali nespomenuti prihodi | G19: 20712.99 | I19: 25340.34
C20: 66 | F20: Prihodi od prodaje proizvoda i robe te pruženih usluga, prihodi od donacija te povrati po | G20: =G22 -> 0 | H20: =H22 -> 27 | I20: =I22 -> 27.56
F21: protestiranim jamstvima
D22: 663 | F22: Donacije od pravnih i fizičkih osoba izvan općeg proračuna i povrat donacija po protestiranim jamstvima | G22: =' Račun prihoda i rashoda'!G3 -> 0 | H22: 27 | I22: =I23 -> 27.56
E23: 6631 | F23: Tekuće donacije | I23: 27.56
C24: 67 | F24: Prihodi iz nadležnog proračuna i od HZZO-a temeljem ugovornih obvaza | G24: =G25 -> 110507.31 | H24: =H25 -> 120010 | I24: =I25 -> 117809.76 | J24: =I24/G24*100 -> 106.60811 | K24: =I24/H24*100 -> 98.166619
D25: 671 | F25: Prihodi iz nadležnog proračuna za financiranje redovne djelatnosti proračunskih korisnika | G25: =G26 -> 110507.31 | H25: 120010 | I25: =I26+I27 -> 117809.76 | J25: =I25/G25*100 -> 106.60811 | K25: =I25/H25*100 -> 98.166619
E26: 6711 | F26: Prihodi iz nadležnog proračuna za financiranje rashoda poslovanja | G26: 110507.31 | I26: 117599.16 | J26: =I26/G26*100 -> 106.41754
E27: 6712 | F27: Prihodi iz nadležnog proračuna za financiranje nefinancijske imovine | I27: 210.6
B37: BROJČANA OZNAKA I NAZIV | G37: OSTVARENJE/IZVRŠENJE 2022. | H37: IZVORNI PLAN ILI REBALANS 2023.* | I37: OSTVARENJE/IZVRŠENJE 2023. | J37: INDEKS | K37: INDEKS**
B38: 1 | G38: 2 | H38: 3 | I38: 4 | J38: 5=4/2*100 | K38: 6=4/3*100
F39: UKUPNI RASHODI | G39: =G40 -> 130475.56 | H39: =H40+H80 -> 145840 | I39: =I40+I80 -> 143876.72 | J39: =I39/G39*100 -> 110.27101 | K39: =I39/H39*100 -> 98.653812
B40: 3 | F40: Rashodi poslovanja | G40: =G41+G48+G77 -> 130475.56 | H40: =H41+H48+H77 -> 145629 | I40: =I41+I48+I77 -> 143666.12 | J40: =I40/G40*100 -> 110.1096 | K40: =I40/H40*100 -> 98.652137
C41: 31 | F41: Rashodi za zaposlene | G41: =G42+G46+G44 -> 101050.03 | H41: 109318 | I41: =I42+I46+I44 -> 108271.41 | J41: =I41/G41*100 -> 107.14634 | K41: =I41/H41*100 -> 99.042619
D42: 311 | F42: Plaće (Bruto) | G42: =G43 -> 83089.49 | I42: =I43 -> 87237.58 | J42: =I42/G42*100 -> 104.99232
E43: 3111 | F43: Plaće za redovan rad | G43: 83089.49 | I43: 87237.58 | J43: =I43/G43*100 -> 104.99232
D44: 312 | F44: Ostali rashodi za zaposlene | G44: =G45 -> 4250.79 | I44: =I45 -> 8463.63
E45: 3121 | F45: Ostali rashodi za zaposlene | G45: 4250.79 | I45: 8463.63
D46: 313 | F46: Doprinosi na plaće | G46: =G47 -> 13709.75 | I46: =I47 -> 12570.2 | J46: =I46/G46*100 -> 91.688032
E47: 3132 | F47: Doprinosi za zdravstveno osiguranje | G47: 13709.75 | I47: 12570.2 | J47: =I47/G47*100 -> 91.688032
C48: 32 | F48: Materijalni rashodi | G48: =G49+G54+G61+G71 -> 28814.46 | H48: 35601 | I48: =I49+I54+I61+I71 -> 34761.17 | J48: =I48/G48*100 -> 120.63794 | K48: =I48/H48*100 -> 97.640993
D49: 321 | F49: Naknade troškova zaposlenima | G49: =G51+G52+G53+G50 -> 5840.37 | I49: =I51+I52+I53+I50 -> 5507.28 | J49: =I49/G49*100 -> 94.296765
E50: 3211 | F50: Dnevnice za službeni put u zemlji | G50: 536.2 | I50: 399.64
E51: 3212 | F51: Naknade za prijevoz na posao | G51: 5008.46 | I51: 4357.74 | J51: =I51/G51*100 -> 87.007583
E52: 3213 | F52: Stručno usavršavanje | G52: 295.71 | I52: 429.95 | J52: =I52/G52*100 -> 145.39583
E53: 3214 | F53: Naknada za korištenje privatnog automobila u službene svrhe | I53: 319.95
D54: 322 | F54: Rashodi za materijal i energiju | G54: =G55+G56+G57+G58+G59 -> 17490.72 | I54: =I55+I56+I57+I58+I59+I60 -> 18937.41 | J54: =I54/G54*100 -> 108.27119
E55: 3221 | F55: Uredski materijal i ostali materijalni rashodi | G55: 2272.79 | I55: 2951.18 | J55: =I55/G55*100 -> 129.84834
E56: 3222 | F56: Materijal i sirovine | G56: 7454.23 | I56: 9298.55 | J56: =I56/G56*100 -> 124.74193
E57: 3223 | F57: Energija | G57: 5948 | I57: 5112.31 | J57: =I57/G57*100 -> 85.950067
E58: 3224 | F58: Materijal i dijelovi za tekuće i investicijsko održavanje | G58: 94.1 | J58: =I58/G58*100 -> 0
E59: 3225 | F59: Sitni inventar i auto gume | G59: 1721.6 | I59: 1093.43 | J59: =I59/G59*100 -> 63.51243
E60: 3227 | F60: Službena, radna i zaštitna odjeća i obuća | I60: 481.94
D61: 323 | F61: Rashodi za usluge | G61: =G62+G63+G65+G67+G68+G69+G70 -> 5077.59 | I61: =I62+I63+I65+I67+I68+I69+I70+I64+I66 -> 8558.93 | J61: =I61/G61*100 -> 168.56284
E62: 3231 | F62: Usluge telefona, pošte i prijevoza | G62: 414.24 | I62: 427.25 | J62: =I62/G62*100 -> 103.14069
E63: 3232 | F63: Usluge tekućeg i investicijskog održavanja | G63: 663.29 | I63: 2594.53 | J63: =I63/G63*100 -> 391.16073
E64: 3233 | F64: Usluge promidžbe i informiranja | I64: 59.98
E65: 3234 | F65: Komunalne usluge | G65: 1459.19 | I65: 1498.34 | J65: =I65/G65*100 -> 102.683
E66: 3235 | F66: Zakupnine i najamnine | I66: 50
E67: 3236 | F67: Zdravstvene i veterinarske usluge | G67: 856.22 | I67: 1102.51 | J67: =I67/G67*100 -> 128.7648
E68: 3237 | F68: Intelektualne i osobne usluge | G68: 967.22 | I68: 2327.82 | J68: =I68/G68*100 -> 240.6712
E69: 3238 | F69: Računalne usluge | G69: 655.98 | J69: =I69/G69*100 -> 0
E70: 3239 | F70: Ostale usluge | G70: 61.45 | I70: 498.5 | J70: =I70/G70*100 -> 811.22864
D71: 329 | F71: Ostali nespomenuti rashodi poslovanja | G71: =G73+G75+G72+G74+G76 -> 405.78 | I71: =I73+I75+I74+I76+I72 -> 1757.55 | J71: =I71/G71*100 -> 433.12879
E72: 3292 | F72: Premija osiguranja | G72: 371.3 | I72: 585.27
E73: 3293 | F73: Reprezentacija | I73: 1125.83
E74: 3294 | F74: Članarine | G74: 13.27 | I74: 13.27
E75: 3295 | F75: Pristojbe i naknade | I75: 33.18
E76: 3299 | F76: Ostali nespomenuti rashodi poslovanja | G76: 21.21
C77: 34 | F77: Financijski rashodi | G77: =G78 -> 611.07 | H77: 710 | I77: =I78 -> 633.54 | J77: =I77/G77*100 -> 103.67716 | K77: =I77/H77*100 -> 89.230986
D78: 343 | F78: Ostali financijski rashodi | G78: =G79 -> 611.07 | I78: =I79 -> 633.54 | J78: =I78/G78*100 -> 103.67716
E79: 3431 | F79: Bankarske usluge i usluge platnog prometa | G79: 611.07 | I79: 633.54 | J79: =I79/G79*100 -> 103.67716
B80: 4 | F80: Rashodi za nabavu nefinancijske imovine | H80: =H81 -> 211 | I80: =I81 -> 210.6 | K80: =I80/H80*100 -> 99.810427
C81: 42 | F81: Rashodi za nabavu proizvedene dugotrajne imovine | H81: 211 | I81: =I82 -> 210.6 | K81: =I81/H81*100 -> 99.810427
D82: 422 | F82: Postrojenja i oprema | I82: =I83 -> 210.6
E83: 4223 | F83: Oprema za održavanje i zaštitu | I83: 210.6

Sheet Rashodi i prihodi prema izvoru
B2: Članak 3.
B4: IZVJEŠTAJ O PRIHODIMA I RASHODIMA PREMA IZVORIMA FINANCIRANJA
B6: BROJČANA OZNAKA I NAZIV | C6: OSTVARENJE/IZVRŠENJE 2022. | D6: IZVORNI PLAN ILI REBALANS 2023.* | E6: OSTVARENJE/IZVRŠENJE 2023. | F6: INDEKS | G6: INDEKS**
B7: 1 | C7: 2 | D7: 3 | E7: 4 | F7: 5=4/2*100 | G7: 6=4/3*100
B8: UKUPNO PRIHODI | C8: =C9+C12+C15 -> 131499.02 | D8: =D9+D12+D15+D18 -> 145840 | E8: =E9+E12+E15+E18 -> 143321.66 | F8: =E8/C8*100 -> 108.99067 | G8: =E8/D8*100 -> 98.273217
B9: 1 Opći prihodi i primici | C9: =C10 -> 110507.31 | D9: =D10 -> 120010 | E9: =E10 -> 117809.76 | F9: =E9/C9*100 -> 106.60811 | G9: =E9/D9*100 -> 98.166619
B10: 01 Opći prihodi i primici | C10: 110507.31 | D10: 120010 | E10: 117809.76 | F10: =E10/C10*100 -> 106.60811 | G10: =E10/D10*100 -> 98.166619
B12: 4 Prihodi za posebne namjene | C12: =C13 -> 20712.99 | D12: =D13 -> 25596 | E12: =E13 -> 25340.34 | F12: =E12/C12*100 -> 122.34033 | G12: =E12/D12*100 -> 99.001172
B13: 04 Prihodi za posebne namjene | C13: 20712.99 | D13: 25596 | E13: 25340.34 | F13: =E13/C13*100 -> 122.34033 | G13: =E13/D13*100 -> 99.001172
B15: 5 Pomoći | C15: =C16 -> 278.72 | D15: =D16 -> 207 | E15: =E16 -> 144 | F15: =E15/C15*100 -> 51.664753 | G15: =E15/D15*100 -> 69.565217
B16: 05 Pomoći | C16: 278.72 | D16: 207 | E16: 144 | F16: =E16/C16*100 -> 51.664753 | G16: =E16/D16*100 -> 69.565217
B18: 6 Donacije | D18: =D19 -> 27 | E18: =E19 -> 27.56 | G18: =E18/D18*100 -> 102.07407
B19: 06 Donacije | D19: 27 | E19: 27.56 | G19: =E19/D19*100 -> 102.07407
B21: UKUPNO RASHODI | C21: =C22+C25+C28 -> 130475.56 | D21: =D22+D25+D28 -> 145813 | E21: =E22+E25+E28+E31 -> 143876.72 | F21: =E21/C21*100 -> 110.27101 | G21: =E21/D21*100 -> 98.67208
B22: 1 Opći prihodi i primici | C22: =C23 -> 110507.32 | D22: =D23 -> 120010 | E22: =E23 -> 117809.76 | F22: =E22/C22*100 -> 106.60811 | G22: =E22/D22*100 -> 98.166619
B23: 01 Opći prihodi i primici | C23: 110507.32 | D23: 120010 | E23: 117809.76 | F23: =E23/C23*100 -> 106.60811 | G23: =E23/D23*100 -> 98.166619
B25: 4 Prihodi za posebne namjene | C25: =C26 -> 19759 | D25: =D26 -> 25596 | E25: =E26 -> 25895.4 | F25: =E25/C25*100 -> 131.05623 | G25: =E25/D25*100 -> 101.16971
B26: 04 Prihodi za posebne namjene | C26: 19759 | D26: 25596 | E26: 25895.4 | F26: =E26/C26*100 -> 131.05623 | G26: =E26/D26*100 -> 101.16971
B28: 5 Pomoći | C28: =C29 -> 209.24 | D28: =D29 -> 207 | E28: =E29 -> 144 | F28: =E28/C28*100 -> 68.820493 | G28: =E28/D28*100 -> 69.565217
B29: 05 Pomoći | C29: 209.24 | D29: 207 | E29: 144 | F29: =E29/C29*100 -> 68.820493 | G29: =E29/D29*100 -> 69.565217
B31: 6 Donacije | D31: =D32 -> 27 | E31: =E32 -> 27.56 | G31: =E31/D31*100 -> 102.07407
B32: 06 Donacije | D32: 27 | E32: 27.56 | G32: =E32/D32*100 -> 102.07407

Sheet Rashodi prema funkcijskoj k 
B2: Članak 4.
B4: IZVJEŠTAJ O RASHODIMA PREMA FUNKCIJSKOJ KLASIFIKACIJI
B6: BROJČANA OZNAKA I NAZIV | C6: IZVRŠENJE 2022. | D6: IZVORNI PLAN ILI REBALANS 2023.* | E6: IZVRŠENJE 2023. | F6: INDEKS | G6: INDEKS**
B7: 1 | C7: 2 | D7: 3 | E7: 4 | F7: 5=4/2*100 | G7: 6=4/3*100
B8: UKUPNO RASHODI | C8: =C9 -> 130475.56 | D8: =D9 -> 145840 | E8: =E9 -> 143876.72 | F8: =E8/C8*100 -> 110.27101 | G8: =E8/D8*100 -> 98.653812
B9: 09 Obrazovanje | C9: =C10 -> 130475.56 | D9: =D10 -> 145840 | E9: =E10 -> 143876.72 | F9: =E9/C9*100 -> 110.27101 | G9: =E9/D9*100 -> 98.653812
B10: 091 Predškolsko i osnovno obrazovanje | C10: =C11 -> 130475.56 | D10: =D11 -> 145840 | E10: =E11 -> 143876.72 | F10: =E10/C10*100 -> 110.27101 | G10: =E10/D10*100 -> 98.653812
B11: 0911 Predškolsko obrazovanje | C11: 130475.56 | D11: 145840 | E11: 143876.72 | F11: =E11/C11*100 -> 110.27101 | G11: =E11/D11*100 -> 98.653812

Sheet Račun financiranja 
B2: Članak 5.
B4: RAČUN FINANCIRANJA
B5: IZVJEŠTAJ RAČUNA FINANCIRANJA PREMA EKONOMSKOJ KLASIFIKACIJI
B7: BROJČANA OZNAKA I NAZIV | G7: OSTVARENJE/ IZVRŠENJE 2022. | H7: IZVORNI PLAN ILI REBALANS 2023.* | I7: OSTVARENJE/ IZVRŠENJE 2023. | J7: INDEKS | K7: INDEKS**
B8: 1 | G8: 2 | H8: 3 | I8: 4 | J8: 5=4/2*100 | K8: 6=4/3*100
B9: 8 | F9: Primici od financijske imovine i zaduživanja | G9: 0 | H9: 0 | I9: 0 | J9: 0 | K9: 0
C10: 84 | F10: Primici od zaduživanja
D11: 841 | F11: Primljeni krediti i zajmovi od međunarodnih organizacija, institucija i tijela EU te inozemnih vlada
E12: 8413 | F12: Primljeni zajmovi od međunarodnih organizacija
B14: 5 | F14: Izdaci za financijsku imovinu i otplate zajmova | G14: 0 | H14: 0 | I14: 0 | J14: 0 | K14: 0
C15: 54 | F15: Izdaci za otplatu glavnice primljenih kredita i zajmova
D16: 541 | F16: Otplata glavnice primljenih kredita i zajmova od međunarodnih organizacija, institucija i tijela EU te inozemnih vlada
E17: 5413 | F17: Otplata glavnice primljenih zajmova od međunarodnih organizacija

Sheet Račun fin prema izvorima f
B2: Članak 6.
B4: IZVJEŠTAJ RAČUNA FINANCIRANJA PREMA IZVORIMA FINANCIRANJA
B6: BROJČANA OZNAKA I NAZIV | C6: OSTVARENJE/ IZVRŠENJE 2022. | D6: IZVORNI PLAN ILI REBALANS 2023.* | E6: OSTVARENJE/ IZVRŠENJE 2023. | F6: INDEKS | G6: INDEKS**
B7: 1 | C7: 2 | D7: 3 | E7: 4 | F7: 5=4/2*100 | G7: 6=4/3*100
B8: UKUPNO PRIMICI | C8: 0 | D8: 0 | E8: 0 | F8: 0 | G8: 0
B9: 1 Opći prihodi i primici
B10: 01 Opći prihodi i primici
B12: 3 Vlastiti prihodi
B13: 03 Vlastiti prihodi
B15: 5 Pomoći
B16: 05 Pomoći
B19: UKUPNO IZDACI | C19: 0 | D19: 0 | E19: 0 | F19: 0 | G19: 0
B20: 1 Opći prihodi i primici
B21: 01 Opći prihodi i primici
B23: 3 Vlastiti prihodi
B24: 03 Vlastiti prihodi
B26: 5 Pomoći
B27: 05 Pomoći

Sheet Programska klasifikacija
B1: Članak 7.
B3: II. POSEBNI DIO
B5: IZVJEŠTAJ PO PROGRAMSKOJ KLASIFIKACIJI
B7: BROJČANA OZNAKA I NAZIV | F7: IZVORNI PLAN ILI REBALANS 2023.* | G7: IZVRŠENJE 2023. | H7: INDEKS**
B8: 1 | F8: 2 | G8: 3 | H8: 4=3/2*100
B9: 48015 | E9: Dječji vrtić Bregunica Novo Virje
B10: Program 1011 | E10: Predškolski odgoj i obrazovanje
B11: A101101 | E11: Predškolski odgoj Dječjeg vrtića Bregunica
B12: 00206 | E12: Glava 00206 Javne potrebe u obrazovanju
B13: 3 i 4 | E13: Ukupno rashodi | F13: =F14+F49 -> 145840 | G13: =G14+G49 -> 143876.72 | H13: =G13/F13*100 -> 98.653812
B14: 3 | E14: Rashodi poslovanja | F14: =F16+F24+F47 -> 145629 | G14: =G16+G24+G47 -> 143666.12 | H14: =G14/F14*100 -> 98.652137
B15: 01 | E15: Opći prihodi i primici | F15: 109318 | G15: =G16 -> 108271.41 | H15: =G15/F15*100 -> 99.042619
B16: 31 | E16: Rashodi za zaposlene | F16: 109318 | G16: =G17+G18+G19 -> 108271.41 | H16: =G16/F16*100 -> 99.042619
B17: 3111 | E17: Plaće za redovan rad | G17: 87237.58
B18: 3121 | E18: Ostali rashodi za zaposlene | G18: 8463.63
B19: 3132 | E19: Doprinosi za obvezno zdravstveno osiguranje | G19: 12570.2
B20: 06 | E20: Donacije | F20: 27 | G20: 27.56 | H20: =G20/F20*100 -> 102.07407
B21: 05 | E21: Pomoći | F21: 207 | G21: 144 | H21: =G21/F21*100 -> 69.565217
B22: 04 | E22: Prihodi za posebne namjene | F22: 24675 | G22: 25261.86 | H22: =G22/F22*100 -> 102.37836
B23: 01 | E23: Opći prihodi i primici | F23: 10692 | G23: 9327.75 | H23: =G23/F23*100 -> 87.24046
B24: 32 | E24: Materijalni rashodi | F24: 35601 | G24: =G25+G26+G27+G28+G29+G30+G31+G32+G33+G34+G35+G37+G39+G40+G41+G42+G43+G44+G45+G36+G38 -> 34761.17 | H24: =G24/F24*100 -> 97.640993
B25: 3211 | E25: Dnevnice za službeni put u zemlji | G25: 399.64
B26: 3212 | E26: Naknade za prijevoz na posao | G26: 4357.74
B27: 3213 | E27: Stručno usavršavanje | G27: 429.95
B28: 3214 | E28: Naknada za korištenje privatnog automobila u službene svrhe | G28: 319.95
B29: 3221 | E29: Uredski materijal i ostali materijalni rashodi | G29: 2951.18
B30: 3222 | E30: Materijal i sirovine | G30: 9298.55
B31: 3223 | E31: Energija | G31: 5112.31
B32: 3225 | E32: Sitni inventar i auto gume | G32: 1093.43
B33: 3227 | E33: Službena, radna i zaštitna odjeća i obuća | G33: 481.94
B34: 3231 | E34: Usluge telefona, pošte i prijevoza | G34: 427.25
B35: 3232 | E35: Usluge tekućeg i investicijskog održavanja | G35: 2594.53
B36: 3233 | E36: Usluge promidžbe i informiranja | G36: 59.98
... B41: 3239 | E41: Ostale usluge | G41: 498.5
B42: 3292 | E42: Premije osiguranja | G42: 585.27
B43: 3293 | E43: Reprezentacija | G43: 1125.83
B44: 3294 | E44: Članarine | G44: 13.27
B45: 3295 | E45: Pristojbe i naknade | G45: 33.18
B46: 04 | E46: Prihodi za posebne namjene | F46: =F47 -> 710 | G46: =G47 -> 633.54 | H46: =G46/F46*100 -> 89.230986
B47: 34 | E47: Financijski rashodi | F47: 710 | G47: =G48 -> 633.54 | H47: =G47/F47*100 -> 89.230986
B48: 3431 | E48: Bankarske usluge i usluge platnog prometa | G48: 633.54
B49: 4 | E49: Rashodi za nabavu nefinancijske imovine | F49: =F51 -> 211 | G49: =G51 -> 210.6 | H49: =G49/F49*100 -> 99.810427
B50: 01 | E50: Opći prihodi i primici | F50: =F51 -> 211 | G50: =G51 -> 210.6 | H50: =G50/F50*100 -> 99.810427
B51: 42 | E51: Rashodi za nabavu proizvedene dugotrajne imovine | F51: 211 | G51: =G52+G53 -> 210.6 | H51: =G51/F51*100 -> 99.810427
B52: 4223 | E52: Oprema za održavanje i zaštitu | G52: 210.6
B53: 4227 | E53: Uređaji, strojevi i oprema za ostale namjene

Sheet Obrazloženje
A2: Članak 8.
A4: Obrazloženje općeg dijela izvještaja o izvršenju financijskog plana
A6: Ukupni prihodi poslovanja u periodu od 1. siječnja do 31. prosinca ostvareni su u iznosu 143.321,66 eura ili 98,27 % od Plana.
A7: Ukupni rashodi poslovanja u periodu 1. siječnja do 31. prosinca ostvareni su u iznosu 143.666,12 eura ili 98,65 % od Plana.
A8: Rashodi za nabavu nefinancijske imovine ostavreni su u iznosu 210,60 eura ili 99,81% od Plana.
A10: Preneseni manjak iz prethodne godine iznosi 8.124,28 eura.
A11: Ostvaren je manjak prihoda i primitaka za pokriće u slijedećem razdoblju u iznosu 8.679,34 eura.
A13: Članak 9.
A15: Obrazloženje ostvarenja prihoda i rashoda, primitaka i izdataka
A17: Od ukupno ostvarenih prihoda najzastupljeniji su prihodi od nadležnog proračuna u iznosu 117.809,76 eura koji su utrošeni financiranje rashoda poslovanja i rashoda za nabavu nefinancijske imovine. Prihodi po posebnim propisima ostvareni su u iznosu 25.340,34 eura i odnose se na uplate roditelja za smještaj djece u dječjem vrtiću. Od strane državnog proračuna je sufinancirano 144,00 eura za provođenje programa male škole. Iznos od 27,56 eura koji je dobiven za donacije starih baterija.
A22: Od ukupno ostvarenih rashoda najzastupljeniji su rashodi za zaposlene u iznosu 108.271,41 eura te materijalni rashodi u iznosu 34.761,17 eura koji se odnose na naknade troškova zaposlenima, rashode za materijal i energiju, usluge, ostale nespomenute rashode poslovanja te financijski rashodi. Rashodi za nabavu dugotraje imovine su ostvareni u iznosu 210,60 eura i odnose se na nabavu visokotlačnog čistaća husqvarna.
A26: Stanje novčanih sredstava na početku izvještajnog razdoblja je 2.507,89 eura, ukupni priljevi na novčane račune su bili u iznosu 143.780,25 eura. Ukupni odljevi s novčanih računa su bili u iznosu 145.208,87 eura, dok je stanje novčanih sredstava na kraju izvještajnog razdoblja 1.079,27 eura.
... A98: URBROJ: 2137-94-24-1
A99: Novo Virje, 28. ožujka 2024. | K99: Predsjednik Upravnog vijeća:
K100: Baruškin Ivan
