Workbook

Sheet SAŽETAK
A1: Na temelju članka 38. Zakona o proračunu ("Narodne Novine" broj 144/21), članka 36. Zakona o ustanovama (Narodne novine broj: 76/93, 29/97, 47/99, 35/08 i 127/19.) i članka 54. Satatuta Dječjeg vrtića Bregunica Novo Virje, Upravno vijeće Dječjeg vrtića Bregunica na 24. sjednici održanoj 31. prosinca 2024. godine donijelo je
A3: FINANCIJSKI PLAN DJEČJEG VRTIĆA "BREGUNICA" NOVO VIRJE ZA 2025. I PROJEKCIJA ZA 2026. I 2027. GODINU
A5: I. OPĆI DIO
A7: Članak 1.
A9: A) SAŽETAK RAČUNA PRIHODA I RASHODA
J10: EUR
F11: Izvršenje 2023.* | G11: Plan 2024. | H11: Proračun za 2025. | I11: Projekcija proračuna za 2026. | J11: Projekcija proračuna za 2027.
A12: PRIHODI UKUPNO | F12: =F13+F14 -> 143321.66 | G12: =G13+G14 -> 188215.29 | H12: =H13+H14 -> 238979.34 | I12: =I13+I14 -> 231300 | J12: =J13+J14 -> 232410
A13: 6 PRIHODI POSLOVANJA | F13: =' Račun prihoda i rashoda'!D11 -> 143321.66 | G13: =' Račun prihoda i rashoda'!E11 -> 188215.29 | H13: =' Račun prihoda i rashoda'!F11 -> 238979.34 | I13: =' Račun prihoda i rashoda'!G11 -> 231300 | J13: =' Račun prihoda i rashoda'!H11 -> 232410
A14: 7 PRIHODI OD PRODAJE NEFINANCIJSKE IMOVINE | F14: =' Račun prihoda i rashoda'!D16 -> 0 | G14: =' Račun prihoda i rashoda'!E16 -> 0 | H14: =' Račun prihoda i rashoda'!F16 -> 0 | I14: =' Račun prihoda i rashoda'!G16 -> 0 | J14: =' Račun prihoda i rashoda'!H16 -> 0
A15: RASHODI UKUPNO | F15: =F16+F17 -> 143876.72 | G15: =G16+G17 -> 180091 | H15: =H16+H17 -> 230300 | I15: =I16+I17 -> 231300 | J15: =J16+J17 -> 232410
A16: 3 RASHODI POSLOVANJA | F16: =' Račun prihoda i rashoda'!D30 -> 143666.12 | G16: =' Račun prihoda i rashoda'!E30 -> 178091 | H16: =' Račun prihoda i rashoda'!F30 -> 228300 | I16: =' Račun prihoda i rashoda'!G30 -> 231300 | J16: =' Račun prihoda i rashoda'!H30 -> 231410
A17: 4 RASHODI ZA NABAVU NEFINANCIJSKE IMOVINE | F17: =' Račun prihoda i rashoda'!D34 -> 210.6 | G17: =' Račun prihoda i rashoda'!E34 -> 2000 | H17: =' Račun prihoda i rashoda'!F34 -> 2000 | I17: =' Račun prihoda i rashoda'!G34 -> 0 | J17: =' Račun prihoda i rashoda'!H34 -> 1000
A18: RAZLIKA - VIŠAK / MANJAK | F18: =F12-F15 -> -555.06 | G18: =G12-G15 -> 8124.29 | H18: =H12-H15 -> 8679.34 | I18: =I12-I15 -> 0 | J18: =J12-J15 -> 0
A20: B) SAŽETAK RAČUNA FINANCIRANJA
F22: Izvršenje 2023.* | G22: Plan 2024. | H22: Proračun za 2025. | I22: Projekcija proračuna za 2026. | J22: Projekcija proračuna za 2027.
A23: 8 PRIMICI OD FINANCIJSKE IMOVINE I ZADUŽIVANJA | F23: 0 | G23: 0 | H23: 0 | I23: 0 | J23: 0
A24: 5 IZDACI ZA FINANCIJSKU IMOVINU I OTPLATE ZAJMOVA | F24: 0 | G24: 0 | H24: 0 | I24: 0 | J24: 0
A25: NETO FINANCIRANJE | F25: =F23-F24 -> 0 | G25: =G23-G24 -> 0 | H25: =H23-H24 -> 0 | I25: =I23-I24 -> 0 | J25: =J23-J24 -> 0
A26: VIŠAK / MANJAK + NETO FINANCIRANJE | F26: =F18+F25 -> -555.06 | G26: =G18+G25 -> 8124.29 | H26: =H18+H25 -> 8679.34 | I26: =I18+I25 -> 0 | J26: =J18+J25 -> 0
A28: C) PRENESENI VIŠAK ILI PRENESENI MANJAK
F30: Izvršenje 2023.* | G30: Plan 2024. | H30: Proračun za 2025. | I30: Projekcija proračuna za 2026. | J30: Projekcija proračuna za 2027.
A31: PRIJENOS VIŠKA / MANJKA IZ PRETHODNE(IH) GODINE | F31: -8124.28 | G31: -8124.29 | H31: -8679.34 | I31: 0 | J31: 0
A32: PRIJENOS VIŠKA / MANJKA U SLJEDEĆE RAZDOBLJE | G32: =G26+G31 -> 8.1854523e-12 | H32: =H26+H31 -> 0 | I32: =I26+I31 -> 0 | J32: =J26+J31 -> 0
A33: VIŠAK / MANJAK + NETO FINANCIRANJE + PRIJENOS VIŠKA / MANJKA IZ PRETHODNE(IH) GODINE - PRIJENOS VIŠKA / MANJKA U SLJEDEĆE RAZDOBLJE | F33: =F18+F25+F31-F32 -> -8679.34 | G33: =G18+G25+G31-G32 -> 0 | H33: =H18+H25+H31-H32 -> -3.6379788e-12 | I33: =I18+I25+I31-I32 -> 0 | J33: =J18+J25+J31-J32 -> 0
A35: D) VIŠEGODIŠNJI PLAN URAVNOTEŽENJA
F37: Izvršenje 2023.* | G37: Plan 2024. | H37: Proračun za 2025. | I37: Projekcija proračuna za 2026. | J37: Projekcija proračuna za 2027.
A38: PRIJENOS VIŠKA / MANJKA IZ PRETHODNE(IH) GODINE | F38: 0 | G38: =F41 -> 0 | H38: =G41 -> 0 | I38: =H41 -> 0 | J38: =I41 -> 0
A39: VIŠAK / MANJAK IZ PRETHODNE(IH) GODINE KOJI ĆE SE RASPOREDITI / POKRITI | F39: 0 | G39: 0 | H39: 0 | I39: 0 | J39: 0
A40: VIŠAK / MANJAK TEKUĆE GODINE | F40: 0 | G40: 0 | H40: 0 | I40: 0 | J40: 0
A41: PRIJENOS VIŠKA / MANJKA U SLJEDEĆE RAZDOBLJE | F41: =F38-F39+F40 -> 0 | G41: =G38-G39+G40 -> 0 | H41: =H38-H39+H40 -> 0 | I41: =I38-I39+I40 -> 0 | J41: =J38-J39+J40 -> 0
A43: * Napomena: Iznosi u stupcima Izvršenje 2022. preračunavaju se iz kuna u eure prema fiksnom tečaju konverzije (1 EUR=7,53450 kuna) i po pravilima za preračunavanje i zaokruživanje.

Sheet  Račun prihoda i rashoda
A1: FINANCIJSKI PLAN DJEČJEG VRTIĆA "BREGUNICA" NOVO VIRJE ZA 2025. I PROJEKCIJA ZA 2026. I 2027. GODINU
A3: I. OPĆI DIO
A5: A. RAČUN PRIHODA I RASHODA
A7: PRIHODI POSLOVANJA PREMA EKONOMSKOJ KLASIFIKACIJI
A9: Razred | B9: Skupina | C9: Naziv prihoda | D9: Izvršenje 2023. | E9: Plan 2024. | F9: Plan za 2025. | G9: Projekcija za 2026. | H9: Projekcija za 2027.
C10: PRIHODI UKUPNO | D10: =D11+D16 -> 143321.66 | E10: =E11+E16 -> 188215.29 | F10: =F11+F16 -> 238979.34 | G10: =G11+G16 -> 231300 | H10: =H11+H16 -> 232410
A11: 6 | C11: Prihodi poslovanja | D11: =D12+D13+D14+D15 -> 143321.66 | E11: =E12+E13+E14+E15 -> 188215.29 | F11: =F12+F13+F14+F15 -> 238979.34 | G11: =G12+G13+G14+G15 -> 231300 | H11: =H12+H13+H14+H15 -> 232410
B12: 63 | C12: Pomoći iz inozemstva i od subjekata unutar općeg proračuna | D12: 144 | E12: 324 | F12: 360 | G12: 340 | H12: 320
B13: 65 | C13: Prihodi od upravnih i sministrativnih pristojbi, pristojbi po posebnim propisima i inaknadama | D13: 25340.34 | E13: 26000 | F13: 30680 | G13: 30000 | H13: 28000
B14: 66 | C14: Prihodi od prodaje proizvoda i robe te pruženih usluga, prihoda od donacija | D14: 27.56 | E14: 30 | F14: 30 | G14: 30 | H14: 30
B15: 67 | C15: Prihodi iz nadležnog proračuna i od HZZO-a temeljem ugovornih obveza | D15: 117809.76 | E15: 161861.29 | F15: 207909.34 | G15: 200930 | H15: 204060
A16: 7 | C16: Prihodi od prodaje nefinancijske imovine
B17: 72 | C17: Prihodi od prodaje proizvedene dugotrajne imovine
A26: RASHODI POSLOVANJA PREMA EKONOMSKOJ KLASIFIKACIJI
A28: Razred | B28: Skupina | C28: Naziv rashoda | D28: Izvršenje 2023. | E28: Plan 2024. | F28: Plan za 2025. | G28: Projekcija za 2026. | H28: Projekcija za 2027.
C29: RASHODI UKUPNO | D29: =D30+D34 -> 143876.72 | E29: =E30+E34 -> 180091 | F29: =F30+F34 -> 230300 | G29: =G30+G34 -> 231300 | H29: =H30+H34 -> 232410
A30: 3 | C30: Rashodi poslovanja | D30: =D31+D32+D33 -> 143666.12 | E30: =E31+E32+E33 -> 178091 | F30: =F31+F32+F33 -> 228300 | G30: =G31+G32+G33 -> 231300 | H30: =H31+H32+H33 -> 231410
B31: 31 | C31: Rashodi za zaposlene | D31: 108271.41 | E31: 138370 | F31: 180060 | G31: 182000 | H31: 183000
B32: 32 | C32: Materijalni rashodi | D32: 34761.17 | E32: 39011 | F32: 47480 | G32: 48500 | H32: 47600
B33: 34 | C33: Financijski rashodi | D33: 633.54 | E33: 710 | F33: 760 | G33: 800 | H33: 810
A34: 4 | C34: Rashodi za nabavu nefinancijske imovine | D34: =D35 -> 210.6 | E34: =E35 -> 2000 | F34: =F35 -> 2000 | G34: =G35 -> 0 | H34: =H35 -> 1000
B35: 42 | C35: Rashodi za nabavu proizvedene dugotrajne imovine | D35: 210.6 | E35: 2000 | F35: 2000 | G35: 0 | H35: 1000

Sheet Prihodi i rashodi po izvorima
A1: FINANCIJSKI PLAN DJEČJEG VRTIĆA "BREGUNICA" NOVO VIRJE ZA 2025. I PROJEKCIJA ZA 2026. I 2027. GODINU
A3: I. OPĆI DIO
A5: A. RAČUN PRIHODA I RASHODA
A7: PRIHODI POSLOVANJA PREMA IZVORIMA FINANCIRANJA
A9: Brojčana oznaka i naziv | B9: Izvršenje 2023. | C9: Plan 2024. | D9: Plan za 2025. | E9: Projekcija za 2026. | F9: Projekcija za 2027.
A10: PRIHODI UKUPNO | B10: =B11+B13+B15+B17 -> 143321.66 | C10: =C11+C13+C15+C17 -> 188215.29 | D10: =D11+D13+D15+D17 -> 238979.34 | E10: =E11+E13+E15+E17 -> 231300 | F10: =F11+F13+F15+F17 -> 232410
A11: 1 Opći prihodi i primici | B11: =B12 -> 117809.76 | C11: =C12 -> 100001.29 | D11: =D12 -> 137909.34 | E11: =E12 -> 140930 | F11: =F12 -> 146060
A12: 01 Opći prihodi i primici | B12: 117809.76 | C12: 100001.29 | D12: 137909.34 | E12: 140930 | F12: 146060
A13: 4 Prihodi za posebne namjene | B13: =B14 -> 25340.34 | C13: =C14 -> 26000 | D13: =D14 -> 30680 | E13: =E14 -> 30000 | F13: =F14 -> 28000
A14: 04 Prihodi za posebne namjene | B14: 25340.34 | C14: 26000 | D14: 30680 | E14: 30000 | F14: 28000
A15: 5 Pomoći | B15: =B16 -> 144 | C15: =C16 -> 62184 | D15: =D16 -> 70360 | E15: =E16 -> 60340 | F15: =F16 -> 58320
A16: 05 Pomoći | B16: 144 | C16: 62184 | D16: 70360 | E16: 60340 | F16: 58320
A17: 6 Donacije | B17: =B18 -> 27.56 | C17: =C18 -> 30 | D17: =D18 -> 30 | E17: =E18 -> 30 | F17: =F18 -> 30
A18: 06 Donacije | B18: 27.56 | C18: 30 | D18: 30 | E18: 30 | F18: 30
A21: RASHODI POSLOVANJA PREMA IZVORIMA FINANCIRANJA
A23: Brojčana oznaka i naziv | B23: Izvršenje 2023. | C23: Plan 2024. | D23: Plan za 2025. | E23: Projekcija za 2026. | F23: Projekcija za 2027.
A24: RASHODI UKUPNO | B24: =B25+B27+B29+B31 -> 143876.72 | C24: =C25+C27+C29+C31 -> 180415 | D24: =D25+D27+D29+D31 -> 230300 | E24: =E25+E27+E29+E31 -> 231300 | F24: =F25+F27+F29+F31 -> 232410
A25: 1 Opći prihodi i primici | B25: =B26 -> 117809.76 | C25: =C26 -> 91877 | D25: =D26 -> 129230 | E25: =E26 -> 140930 | F25: =F26 -> 146060
A26: 01 Opći prihodi i primici | B26: 117809.76 | C26: 91877 | D26: 129230 | E26: 140930 | F26: 146060
A27: 4 Prihodi za posebne namjene | B27: =B28 -> 25895.4 | C27: =C28 -> 26000 | D27: =D28 -> 30680 | E27: =E28 -> 30000 | F27: =F28 -> 28000
A28: 04 Prihodi za posebne namjene | B28: 25895.4 | C28: 26000 | D28: 30680 | E28: 30000 | F28: 28000
A29: 5 Pomoći | B29: =B30 -> 144 | C29: =C30 -> 62508 | D29: =D30 -> 70360 | E29: =E30 -> 60340 | F29: =F30 -> 58320
A30: 05 Pomoći | B30: 144 | C30: 62508 | D30: 70360 | E30: 60340 | F30: 58320
A31: 6 Donacije | B31: =B32 -> 27.56 | C31: =C32 -> 30 | D31: =D32 -> 30 | E31: =E32 -> 30 | F31: =F32 -> 30
A32: 06 Donacije | B32: 27.56 | C32: 30 | D32: 30 | E32: 30 | F32: 30

Sheet Rashodi prema funkcijskoj kl
A1: FINANCIJSKI PLAN DJEČJEG VRTIĆA "BREGUNICA" NOVO VIRJE ZA 2025. I PROJEKCIJA ZA 2026. I 2027. GODINU
A3: I. OPĆI DIO
A5: A. RAČUN PRIHODA I RASHODA
A7: RASHODI PREMA FUNKCIJSKOJ KLASIFIKACIJI
A9: Brojčana oznaka i naziv | B9: Izvršenje 2023. | C9: Plan 2024. | D9: Plan za 2025. | E9: Projekcija za 2026. | F9: Projekcija za 2027.
A10: UKUPNI RASHODI | B10: =B11 -> 143876.72 | C10: =C11 -> 180091 | D10: =D11 -> 230300 | E10: =E11 -> 231300 | F10: =F11 -> 232410
A11: 09 Obrazovanje | B11: =B12 -> 143876.72 | C11: =C12 -> 180091 | D11: =D12 -> 230300 | E11: =E12 -> 231300 | F11: =F12 -> 232410
A12: 091 Predškolsko i osnovno obrazovanje | B12: =B13 -> 143876.72 | C12: =C13 -> 180091 | D12: =D13 -> 230300 | E12: =E13 -> 231300 | F12: =F13 -> 232410
A13: 0911 Predškolsko obrazovanje | B13: 143876.72 | C13: 180091 | D13: =' Račun prihoda i rashoda'!F29 -> 230300 | E13: =' Račun prihoda i rashoda'!G29 -> 231300 | F13: =' Račun prihoda i rashoda'!H29 -> 232410

Sheet Račun financiranja
A1: FINANCIJSKI PLAN DJEČJEG VRTIĆA "BREGUNICA" NOVO VIRJE ZA 2025. I PROJEKCIJA ZA 2026. I 2027. GODINU
A3: I. OPĆI DIO
A5: B. RAČUN FINANCIRANJA PREMA EKONOMSKOJ KLASIFIKACIJI
A7: Razred | B7: Skupina | C7: Naziv | D7: Izvršenje 2023. | E7: Plan 2024. | F7: Plan za 2025. | G7: Projekcija za 2026. | H7: Projekcija za 2027.
C8: PRIMICI UKUPNO
A9: 8 | C9: Primici od financijske imovine i zaduživanja
B10: 84 | C10: Primici od zaduživanja
C12: IZDACI UKUPNO
A13: 5 | C13: Izdaci za financijsku imovinu i otplate zajmova
B14: 54 | C14: Izdaci za otplatu glavnice primljenih kredita i zajmova

Sheet Račun financiranja po izvorima
A1: FINANCIJSKI PLAN DJEČJEG VRTIĆA "BREGUNICA" NOVO VIRJE ZA 2025. I PROJEKCIJA ZA 2026. I 2027. GODINU
A3: I. OPĆI DIO
A5: B. RAČUN FINANCIRANJA PREMA IZVORIMA FINANCIRANJA
A7: Brojčana oznaka i naziv | B7: Izvršenje 2023. | C7: Plan 2024. | D7: Plan za 2025. | E7: Projekcija za 2026. | F7: Projekcija za 2027.
A8: PRIMICI UKUPNO
A9: 8 Namjenski primici od zaduživanja
A10: 81 Namjenski primici od zaduživanja
A12: IZDACI UKUPNO
A13: 1 Opći prihodi i primici
A14: 11 Opći prihodi i primici
A15: 3 Vlastiti prihodi
A16: 31 Vlastiti prihodi

Sheet POSEBNI DIO
A1: FINANCIJSKI PLAN DJEČJEG VRTIĆA "BREGUNICA" NOVO VIRJE ZA 2025. I PROJEKCIJA ZA 2026. I 2027. GODINU
A3: II. POSEBNI DIO
A5: Šifra | D5: Naziv | E5: Izvršenje 2023. | F5: Plan 2024. | G5: Plan za 2025. | H5: Projekcija za 2026. | I5: Projekcija za 2027.
A6: 48015 | D6: Dječji vrtić Bregunica Novo Virje
A7: RAZDJELl 002 | D7: Jedinstveni upravni odjel
A8: GLAVA 00206 | D8: Javne potrebe u obrazovanju | E8: =E13 -> 143876.72 | F8: =F13 -> 180091 | G8: =G13 -> 230300 | H8: =H13 -> 231300 | I8: =I13 -> 232410
A9: Izvor financiranja: 01 | D9: Opći prihodi i primici | E9: =E15+E30 -> 117809.76 | F9: =F15 -> 91877 | G9: =G15+G30 -> 129230 | H9: =H15 -> 140930 | I9: =I15+I30 -> 146060
A10: Izvor financiranja: 04 | D10: Prihodi za posebne namjene | E10: =E19 -> 25895.4 | F10: =F19+F33 -> 26000 | G10: =G19+G33 -> 30680 | H10: =H19+H33 -> 30000 | I10: =I19+I33 -> 28000
A11: Izvor financiranja: 05 | D11: Pomoći | E11: =E23 -> 144 | F11: =F23 -> 62184 | G11: =G23 -> 70360 | H11: =H23 -> 60340 | I11: =I23 -> 58320
A12: Izvor financiranja: 06 | D12: Donacije | E12: =E27 -> 27.56 | F12: =F27 -> 30 | G12: =G27 -> 30 | H12: =H27 -> 30 | I12: =I27 -> 30
A13: PROGRAM 1011 | D13: Program Predškolskpg odgoja i obrazovanja | E13: =E14 -> 143876.72 | F13: =F14 -> 180091 | G13: =G14 -> 230300 | H13: =H14 -> 231300 | I13: =I14 -> 232410
A14: Aktivnost A101101 | D14: Predškolski odgoj DV "Bregunica" | E14: =E16+E20+E24+E28+E31 -> 143876.72 | F14: =F16+F20+F24+F28+F31+F34 -> 180091 | G14: =G16+G20+G24+G28+G31+G34 -> 230300 | H14: =H16+H20+H24+H28+H31+H34 -> 231300 | I14: =I16+I20+I24+I28+I31+I34 -> 232410
A15: Izvor financiranja 01 | D15: Opći prihodi i primici | E15: =E16 -> 117599.16 | F15: =F16 -> 91877 | G15: =G16 -> 127230 | H15: =H16 -> 140930 | I15: =I16 -> 145060
A16: 3 | D16: Rashodi poslovanja | E16: =E17+E18 -> 117599.16 | F16: =F17+F18 -> 91877 | G16: =G17+G18 -> 127230 | H16: =H17+H18 -> 140930 | I16: =I17+I18 -> 145060
A17: 31 | D17: Rashodi za zaposlene | E17: 108271.41 | F17: 76510 | G17: 110060 | H17: 122000 | I17: 125000
A18: 32 | D18: Materijalni rashodi | E18: 9327.75 | F18: 15367 | G18: 17170 | H18: 18930 | I18: 20060
A19: Izvor financiranja 04 | D19: Prihodi za posebne namjene | E19: =E20 -> 25895.4 | F19: =F20 -> 24000 | G19: =G20 -> 30680 | H19: =H20 -> 30000 | I19: =I20 -> 28000
A20: 3 | D20: Rashodi poslovanja | E20: =E21+E22 -> 25895.4 | F20: =F21+F22 -> 24000 | G20: =G21+G22 -> 30680 | H20: =H21+H22 -> 30000 | I20: =I21+I22 -> 28000
A21: 32 | D21: Materijalni rashodi | E21: 25261.86 | F21: 23290 | G21: 29920 | H21: 29200 | I21: 27190
A22: 34 | D22: Financijski rashodi | E22: 633.54 | F22: 710 | G22: 760 | H22: 800 | I22: 810
A23: Izvor financiranja 05 | D23: Pomoći | E23: =E24 -> 144 | F23: =F24 -> 62184 | G23: =G24 -> 70360 | H23: =H24 -> 60340 | I23: =I24 -> 58320
A24: 3 | D24: Rashodi poslovanja | E24: =E26 -> 144 | F24: =F25+F26 -> 62184 | G24: =G25+G26 -> 70360 | H24: =H25+H26 -> 60340 | I24: =I25+I26 -> 58320
A25: 31 | D25: Rashodi za zaposlene | F25: 61860 | G25: 70000 | H25: 60000 | I25: 58000
A26: 32 | D26: Materijalni rashodi | E26: 144 | F26: 324 | G26: 360 | H26: 340 | I26: 320
A27: Izvor financiranja 06 | D27: Donacije | E27: =E28 -> 27.56 | F27: =F28 -> 30 | G27: =G28 -> 30 | H27: =H28 -> 30 | I27: =I28 -> 30
A28: 3 | D28: Rashodi poslovanja | E28: =E29 -> 27.56 | F28: =F29 -> 30 | G28: =G29 -> 30 | H28: =H29 -> 30 | I28: =I29 -> 30
A29: 32 | D29: Materijalni rashodi | E29: 27.56 | F29: 30 | G29: 30 | H29: 30 | I29: 30
A30: Izvor financiranja 01 | D30: Opći prihodi i primici | E30: =E31 -> 210.6 | F30: =F31 -> 0 | G30: =G31 -> 2000 | H30: =H31 -> 0 | I30: =I31 -> 1000
A31: 4 | D31: Rashodi za nabavu nefinancijske imovine | E31: =E32 -> 210.6 | F31: =F32 -> 0 | G31: =G32 -> 2000 | H31: =H32 -> 0 | I31: =I32 -> 1000
A32: 42 | D32: Rashodi za nabsavu proizvedene dugotrajne imovine | E32: 210.6 | F32: 0 | G32: 2000 | I32: 1000
A33: Izvor financiranja 04 | D33: Prihodi za posebne namjene | E33: =E34 -> 0 | F33: =F34 -> 2000 | G33: =G34 -> 0 | H33: =H34 -> 0 | I33: =I34 -> 0
A34: 4 | D34: Rashodi za nabavu nefinancijske imovine | E34: =E35 -> 0 | F34: =F35 -> 2000 | G34: =G35 -> 0 | H34: =H35 -> 0 | I34: =I35 -> 0
A35: 42 | D35: Rashodi za nabsavu proizvedene dugotrajne imovine | F35: 2000
A39: Članak 2.
A41: Procijenjeni preneseni manjak prihoda poslovanja iz prethodne godine iznosi 8.679,34 eura i u cijelosti se planira pokriti u slijedećoj proračunskoj 2025. godini. Sukladno navedenom, vrtić nije u obvezi postupiti po članku 37. Zakona o proračunu ( Narodne novine 144/21.) u svezi izrade višegodišnjeg plana uratvoteženja.
A43: Članak 3.
A45: Financijski plan smatra se usvojenim ako ga Upravno vijeće Dječjeg vrtića "Bregunica" donese većinom glasova, uz suglasnot Općinskog vijeća Općine Novo Virje i pod uvjetom da je isti sadržan u Proračunu Općine Novo Virje za 2025. i projekcijama za 2026. i 2027. godinu.
A47: Članak 4.
A49: Obrazloženje Financijskog plana Dječjeg vrtića "Bregunica" Novo Virje za 2025. godinu čini sastavni dio ovog Financijskog plana.
A51: III. ZAVRŠNA ODREDBA
A53: Članak 5.
A55: Financijski plan stupa na snagu danom objave na oglasnoj poči Dječjeg vrtića "Bregunica" Novo Virje, a primjenjuje se od 01. siječnja 2025. godine.
A57: UPRAVNO VIJEĆE DJEČJEG VRTIĆA "BREGUNICA" NOVO VIRJE
A59: KLASA: 400-02/24-01/03
A60: URBROJ: 2137-94-24-01
A61: U Novom Virju, 31. prosinac 2024.

Sheet List2
