Workbook

Sheet Proračun 2023
A1: Na temelju članka 42. stavka 1 Zakona o proračunu ("Narodne novine" broj 144/21) i članka 30. Statuta Općine Novo Virje ("Službeni glasnik Koprivničko - križevačke županije" broj 4/21.), Općinsko vijeću Općine Novo Virje na 15. sjednici održanoj 08. svibnja 2023. donijelo je
A3: I. IZMJENE PRORAČUNA OPĆINE NOVO VIRJE ZA 2023. GODINU
A4: I PROJEKCIJE ZA 2024. I 2025. GODINU
A6: I. OPĆI DIO
A8: Članak 1.
A10: U Proračun Općine Novo Virje za 2023. godinu i projekcijama za 2024. i 2025. ("Službeni glasnik Koprivničko - križevačke županije" broj 39/22 ) ( u daljnjem tekstu: Proračun) u članku 1. mijenja se: A. Račun prihoda i rashoda, B. Račun financiranja i C. Raspoloživa sredstva iz prethodnih godina, kako slijedi:
A12: A. RAČUN PRIHODA I RASHODA
E14: Plan Proračuna za 2023. | F14: Povećanje/ Smanjenje | G14: Novi Plan 2023.
E15: EUR | F15: EUR | G15: EUR
A16: 6) PRIHODI POSLOVANJA | E16: =E50 -> 1286752 | F16: =F50 -> -263923.95 | G16: =G50 -> 1022828.1
A17: 7) PRIHODI OD NEFINANCIJSKE IMOVINE | E17: =E66 -> 6637 | F17: =F66 -> 0 | G17: =G66 -> 6637
A18: UKUPNI PRIHODI | E18: =SUM(E16:E17) -> 1293389 | F18: =SUM(F16:F17) -> -263923.95 | G18: =SUM(G16:G17) -> 1029465.1
A19: 3) RASHODI POSLOVANJA | E19: =E69 -> 789602 | F19: =F69 -> 8088 | G19: =G69 -> 797690
A20: 4) RASHODI ZA NABAVU NEFINANCIJSKE IMOVINE | E20: =E77 -> 795910 | F20: =F77 -> 127455 | G20: =G77 -> 923365
A21: UKUPNI RASHODI | E21: =SUM(E19:E20) -> 1585512 | F21: =SUM(F19:F20) -> 135543 | G21: =SUM(G19:G20) -> 1721055
A22: RAZLIKA - VIŠAK/MANJAK | E22: =E18-E21 -> -292123 | F22: =F18-F21 -> -399466.95 | G22: =G18-G21 -> -691589.95
A24: B. RAČUN FINANCIRANJA
E26: Plan Proračuna za 2023. | F26: Povećanje/ Smanjenje | G26: Novi Plan 2023.
A27: 8) PRIMICI OD FINANCIJSKE IMOVINE I ZADUŽIVANJA | E27: =E83 -> 133 | F27: =F83 -> 0 | G27: =G83 -> 133
A28: 5) IZDACI ZA FINANCIJSKU IMOVINU I OTPLATE ZAJMOVA | E28: =E86 -> 29863 | F28: =F86 -> 0 | G28: =G86 -> 29863
A29: NETO ZADUŽIVANJE7FINANCICANJE | E29: =E27-E28 -> -29730 | F29: =F27-F28 -> 0 | G29: =G27-G28 -> -29730
A31: C. RASPOLOŽIVA SREDSTVA IZ PRETHODNIH GODINA
A33: VIŠAK PRIHODA I PRIMITAKA IZ PRETHODINIH GODINA | E33: 321853 | F33: 399466.95 | G33: =E33+F33 -> 721319.95
A39: Članak 2.
A41: U članku 2. prihodi i rashodi te primici i izdaci po ekonomskoj klasifikaciji utvrđeni u A. Računu prihoda i rashoda i B. Računu financiranja mijenjaju se kako slijedi:
A43: A. RAČUN PRIHODA I RASHODA
A45: Razred | E45: Plan Proračuna za 2023. EUR | F45: Povećanje/ Smanjenje | G45: Novi Plan 2023.
B46: Skupina
C47: Izvor | D47: Naziv
A49: 1 | B49: 2 | C49: 3 | D49: 4 | E49: 5 | F49: 6 | G49: 7
A50: 6 | D50: Prihodi poslovanja | E50: =E51+E53+E55+E58+E64+E61 -> 1286752 | F50: =F51+F53+F55+F58+F61+F64 -> -263923.95 | G50: =G51+G53+G55+G58+G61+G64 -> 1022828.1
B51: 61 | D51: Prihodi od poreza | E51: 82157 | G51: =E51+F51 -> 82157
C52: 01 | D52: Opći prihodi i primici | E52: 82157 | G52: =E52+F52 -> 82157
B53: 63 | D53: Pomoći iz inozemstva (darovnice) i od subjekata unutar općeg proračuna | E53: 490059 | F53: 795 | G53: =E53+F53 -> 490854
C54: 05 | D54: Pomoći | E54: =E53 -> 490059 | F54: 795 | G54: =E54+F54 -> 490854
B55: 64 | D55: Prihodi od imovine | E55: 642456 | F55: =F56+F57 -> -264718.95 | G55: =E55+F55 -> 377737.05
C56: 01 | D56: Opći prihodi i primici | E56: 642189 | F56: -264718.95 | G56: =E56+F56 -> 377470.05
C57: 04 | D57: Prihodi za posebne namjene | E57: 267 | G57: =E57+F57 -> 267
B58: 65 | D58: Prihodi od upravnih i administrativnih pristojbi, pristojbi po posebnim propisima i naknadama | E58: 70194 | G58: =E58+F58 -> 70194
C59: 01 | D59: Opći prihodi i primici | E59: 266 | G59: =E59+F59 -> 266
C60: 04 | D60: Prihodi za posebne namjene | E60: 69928 | G60: =E60+F60 -> 69928
B61: 66 | D61: Prihodi od donacija | E61: 1620 | G61: =E61+F61 -> 1620
C62: 01 | D62: Opći prihodi i primici | E62: 1593 | G62: =E62+F62 -> 1593
C63: 06 | D63: Donacije | E63: 27 | G63: =E63+F63 -> 27
B64: 68 | D64: Kazne, upravne mjere i ostali prihodi | E64: 266 | G64: =E64+F64 -> 266
C65: 01 | D65: Opći prihodi i primici | E65: =E64 -> 266 | G65: =E65+F65 -> 266
A66: 7 | D66: Prihodi od prodaje nefinancijske imovine | E66: =E67 -> 6637 | F66: =F67 -> 0 | G66: =G67 -> 6637
B67: 71 | D67: Prihodi od prodaje materijalne imovine- prirodnih bogatstava | E67: 6637 | G67: =E67+F67 -> 6637
C68: 07 | D68: Prihodi od prodaje nefinancijske imovine | E68: 6637 | G68: =E68+F68 -> 6637
A69: 3 | D69: Rashodi poslovanja | E69: =E70+E71+E72+E73+E74+E75+E76 -> 789602 | F69: =F70+F71+F72+F73+F74+F75+F76 -> 8088 | G69: =G70+G71+G72+G73+G74+G75+G76 -> 797690
B70: 31 | D70: Rashodi za zaposlene | E70: 216472 | G70: =E70+F70 -> 216472
B71: 32 | D71: Materijalni rashodi | E71: 342426 | F71: ='posebni dio'!G21+'posebni dio'!G28+'posebni dio'!G44+'posebni dio'!G59+'posebni dio'!G80+'posebni dio'!G87+'posebni dio'!G97+'posebni dio'!G107+'posebni dio'!G114+'posebni dio'!G120+'posebni dio'!G137+'posebni dio'!G144+'posebni dio'!G154+'posebni dio'!G182+'posebni dio'!G188+'posebni dio'!G194+'posebni dio'!G200+'posebni dio'!G209+'posebni dio'!G214+'posebni dio'!G220+'posebni dio'!G226+'posebni dio'!G232+'posebni dio'!G237+'posebni dio'!G243+'posebni dio'!G249+'posebni dio'!G261+'posebni dio'!G267+'posebni dio'!G274+'posebni dio'!G288+'posebni dio'!G302+'posebni dio'!G313+'posebni dio'!G319+'posebni dio'!G327+'posebni dio'!G344+'posebni dio'!G354+'posebni dio'!G381+'posebni dio'!G432+'posebni dio'!G335 -> 6027 | G71: =E71+F71 -> 348453
B72: 34 | D72: Financijski rashodi | E72: 3724 | G72: =E72+F72 -> 3724
B73: 35 | D73: Subvencije | E73: 38490 | F73: ='posebni dio'!G161+'posebni dio'!G168+'posebni dio'!G174 -> 0 | G73: =E73+F73 -> 38490
B74: 36 | D74: Pomoći dane u inozemstvo i unutar općeg proračuna | E74: 54684 | G74: =E74+F74 -> 54684
B75: 37 | D75: Naknade građanima i kućanstvima | E75: 72336 | F75: ='posebni dio'!G393+'posebni dio'!G399+'posebni dio'!G406+'posebni dio'!G412+'posebni dio'!G420+'posebni dio'!G426+'posebni dio'!G438+'posebni dio'!G443+'posebni dio'!G449+'posebni dio'!G455+'posebni dio'!G461 -> 1069 | G75: =E75+F75 -> 73405
B76: 38 | D76: Ostali rashodi | E76: 61470 | F76: ='posebni dio'!G481+'posebni dio'!G475+'posebni dio'!G468+'posebni dio'!G383+'posebni dio'!G369+'posebni dio'!G362+'posebni dio'!G349+'posebni dio'!G162+'posebni dio'!G149+'posebni dio'!G132+'posebni dio'!G127+'posebni dio'!G115+'posebni dio'!G34+'posebni dio'!G22 -> 992 | G76: =E76+F76 -> 62462
A77: 4 | D77: Rashodi za nabavu nefinancijske imovine | E77: =E78+E79 -> 795910 | F77: =F78+F79 -> 127455 | G77: =G78+G79 -> 923365
B78: 42 | D78: Rashodi za nabavu proizvedene dugotrajne imovine | E78: 795910 | F78: ='posebni dio'!G47+'posebni dio'!G53+'posebni dio'!G66+'posebni dio'!G99+'posebni dio'!G202+'posebni dio'!G276+'posebni dio'!G281+'posebni dio'!G290+'posebni dio'!G296+'posebni dio'!G304+'posebni dio'!G311+'posebni dio'!G321+'posebni dio'!G329+'posebni dio'!G337+'posebni dio'!G385 -> 127455 | G78: =E78+F78 -> 923365
B79: 45 | D79: Rashodi za dodatna ulaganja na nefinscijskoj imovini | G79: =E79+F79 -> 0
A81: B. RAČUN FINANCIRANJA
A83: 8 | D83: Primici od financijske imovine i zaduživanja | E83: =E84 -> 133 | F83: =F84 -> 0 | G83: =G84 -> 133
B84: 81 | D84: Primljene otplate (povrati) glavnice danih zajmova | E84: 133 | G84: 133
C85: 01 | D85: Opći prihodi i primici | E85: 133 | G85: =E85+F85 -> 133
A86: 5 | D86: Izdaci za financijsku imovinu i otplate zajmova | E86: =E88+E87 -> 29863 | F86: =F88 -> 0 | G86: =G88 -> 29863
B87: 53 | D87: Izdaci za dionice i udjele u glavnici | G87: =E87+F87 -> 0
B88: 54 | D88: Izdaci za otplatu glavnice primljenih kredita i zajmova | E88: =E89 -> 29863 | G88: =G89 -> 29863
C89: 01 | D89: Opći prihodi i primici | E89: 29863 | G89: =E89+F89 -> 29863
A91: Članak 3.
A93: U članku 3. Rashodi prema funkcijskoj klasifikaciji ( Tablica 1.) planirani u A. Računu prihoda i rashoda mijenjaju se kako slijedi:
A95: Opis | E95: Proračun za 2023. | F95: Povećanje/ Smanjenje | G95: Novi Plan 2023.
A98: 2 | E98: EUR | F98: EUR | G98: EUR
A99: 01 | B99: Opće javne usluge | E99: =E100+E101+E102+E103 -> 294079 | F99: =F100+F101+F102+F103 -> 0 | G99: =G100+G101+G102+G103 -> 294079
A100: 011 | B100: Izvršna i zakonodavna tijela, financijski i fiskalni poslovi | E100: 26713 | F100: ='posebni dio'!G17+'posebni dio'!G30 -> 0 | G100: =E100+F100 -> 26713
A101: 013 | B101: Opće usluge | E101: 227511 | F101: ='posebni dio'!G39+'posebni dio'!G49+'posebni dio'!G55+'posebni dio'!G61+'posebni dio'!G76 -> 0 | G101: =E101+F101 -> 227511
A102: 016 | B102: Opće javne usluge koje nisu drugdje svrstane | E102: 9328 | F102: ='posebni dio'!G84+'posebni dio'!G89+'posebni dio'!G94+'posebni dio'!G102 -> 0 | G102: =E102+F102 -> 9328
A103: 017 | B103: Transakcije vezane uz javni dug | E103: 30527 | F103: ='posebni dio'!G68 -> 0 | G103: =E103+F103 -> 30527
A104: 02 | B104: Obrana
A105: 03 | B105: Javne red i sigurnost | E105: =E106+E107 -> 22499 | F105: =F106+F107 -> 700 | G105: =G106+G107 -> 23199
A106: 032 | B106: Usluge protupožarne zaštite | E106: 18052 | F106: ='posebni dio'!G122+'posebni dio'!G134 -> 700 | G106: =E106+F106 -> 18752
A107: 036 | B107: Rahodi za javni red i sigurnost koji nisu drugdje svrstani | E107: 4447 | F107: ='posebni dio'!G111+'posebni dio'!G117+'posebni dio'!G129 -> 0 | G107: =E107+F107 -> 4447
A108: 04 | B108: Ekonomski poslovi | E108: =E109+E111 -> 604395 | F108: =F109+F111 -> 0 | G108: =G109+G111 -> 604395
A109: 042 | B109: Poljoprivreda, šumarstvo, ribarsvto i lov | E109: 45659 | F109: ='posebni dio'!G141+'posebni dio'!G146+'posebni dio'!G151+'posebni dio'!G157+'posebni dio'!G164+'posebni dio'!G170 -> 0 | G109: =E109+F109 -> 45659
A110: 044 | B110: Rudarstvo, proizvodnja i građevinarstvo | G110: =E110+F110 -> 0
A111: 045 | B111: Promet | E111: 558736 | F111: ='posebni dio'!G190+'posebni dio'!G245+'posebni dio'!G251+'posebni dio'!G306 -> 0 | G111: =E111+F111 -> 558736
A112: 047 | B112: Ostale industrije | G112: =E112+F112 -> 0
A113: 05 | B113: Zaštita okoliša | E113: =E114 -> 33447 | F113: =F114 -> 0 | G113: =G114 -> 33447
A114: 051 | B114: Gospodarenje otpadom | E114: 33447 | F114: ='posebni dio'!G222+'posebni dio'!G228+'posebni dio'!G239 -> 0 | G114: =E114+F114 -> 33447
A115: 06 | B115: Usluge unapređenja stanovanja i zajednice | E115: =E117+E119+E120 -> 147856 | F115: =F117+F119+F120 -> 119000 | G115: =G117+G119+G120 -> 266856
A116: 061 | B116: Razvoj stanovanja | G116: =E116+F116 -> 0
A117: 062 | B117: Razvoj zajednice | E117: 45127 | F117: ='posebni dio'!G204+'posebni dio'!G211+'posebni dio'!G257+'posebni dio'!G263+'posebni dio'!G278+'posebni dio'!G283+'posebni dio'!G298 -> 3000 | G117: =E117+F117 -> 48127
A118: 063 | B118: Opskrba vodom | G118: =E118+F118 -> 0
A119: 064 | B119: Ulična rasvjeta | E119: 26014 | F119: ='posebni dio'!G216+'posebni dio'!G234+'posebni dio'!G331 -> 116000 | G119: =E119+F119 -> 142014
A120: 066 | B120: Rashodi vezani uz stanovanje i kom.pogodnosti koji nisu drugdje svrstani | E120: 76715 | F120: ='posebni dio'!G178+'posebni dio'!G184+'posebni dio'!G196+'posebni dio'!G270+'posebni dio'!G292 -> 0 | G120: =E120+F120 -> 76715
A121: 07 | B121: Zdrastvo
A122: 08 | B122: Rekreacija, kultura i religija | E122: =E123+E124+E125 -> 247797 | F122: =F123+F124+F125 -> 14110 | G122: =G123+G124+G125 -> 261907
A123: 081 | B123: Službe rekreacije i sporta | E123: 226957 | F123: ='posebni dio'!G315+'posebni dio'!G323+'posebni dio'!G358 -> 12455 | G123: =E123+F123 -> 239412
A124: 082 | B124: Služba kulture | E124: 19114 | F124: ='posebni dio'!G24+'posebni dio'!G341+'posebni dio'!G346+'posebni dio'!G351 -> 1655 | G124: =E124+F124 -> 20769
A125: 084 | B125: Religijske i druge službene zajednice | E125: 1726 | F125: ='posebni dio'!G365 -> 0 | G125: =E125+F125 -> 1726
A126: 09 | B126: Obrazovanje | E126: =E127+E130 -> 190204 | F126: =F127+F130 -> 0 | G126: =G127+G130 -> 190204
...

Sheet posebni dio
A1: II. POSEBNI DIO
A3: Članak 3.
A5: Rashodi poslovanja i rashodi za nabavu nefinancijske imovine u Proračunu u ukupnoj svoti 1.750.918,00 eura raspoređuju se po korisnicima i programima u Posebnom dijelu Proračuna, kako slijedi:
A7: Razred | F7: Proračun za 2023. | G7: Povećanje/ Smanjenje | H7: Novi Plan za 2023.
B8: Skupina
C10: Naziv
A11: 1 | B11: 2 | C11: 4 | F11: 5 | G11: 6 | H11: 7
A12: UKUPNO RASHODI I IZDACI | F12: =F13+F35 -> 1615375 | G12: =G13+G35 -> 135543 | H12: =H13+H35 -> 1750918
A13: RAZDJEL 001 - OPĆINSKI NAČELNIK I OPĆINSKO VIJEĆE | F13: =F14 -> 36003 | G13: =G14 -> 1310 | H13: =H14 -> 37313
A14: GLAVA 00101 - OPĆINSKI NAČELNIK I OPĆINSKO VIJEĆE | F14: =F15 -> 36003 | G14: =G15 -> 1310 | H14: =H15 -> 37313
A15: Program 1001: Donošenje akata i mjera iz djelokruga predstavničkog i izvršnog tijela | F15: =F16+F23+F29 -> 36003 | G15: =G16+G23+G29 -> 1310 | H15: =H16+H23+H29 -> 37313
A16: A100101: Predstavnička i izvršna tijela | F16: =F19 -> 25385 | G16: =G19 -> 0 | H16: =H19 -> 25385
A17: Funkcijska klasifikacija: 011 Izvršna i zakonodavna tijela | F17: =F16 -> 25385 | G17: =G16 -> 0 | H17: =H16 -> 25385
A18: Izvor: 01 Opći prihodi i primici | F18: =F16 -> 25385 | H18: 25385
A19: 3 | C19: RASHODI POSLOVANJA | F19: =F20+F21+F22 -> 25385 | G19: =G20+G21+G22 -> 0 | H19: =H20+H21+H22 -> 25385
B20: 31 | C20: Rashodi za zaposlene | F20: 19019 | H20: =F20+G20 -> 19019
B21: 32 | C21: Materijalni rashodi | F21: 3313 | G21: 372 | H21: =F21+G21 -> 3685
B22: 38 | C22: Ostali rashodi | F22: 3053 | G22: -372 | H22: =F22+G22 -> 2681
A23: A100102: Dani općine | F23: =F27 -> 9290 | G23: =G27 -> 1310 | H23: =H27 -> 10600
A24: Funkcijska klasifikacija: 082 Služba kulture | F24: =F23 -> 9290 | G24: =G23 -> 1310 | H24: =H23 -> 10600
A25: Izvor 01 Opći prihodi i primici | F25: =F23 -> 9290 | G25: 1310 | H25: 10600
A26: Izvor: 05 Pomoći
A27: 3 | C27: RASHODI POSLOVANJA | F27: =F28 -> 9290 | G27: =G28 -> 1310 | H27: =H28 -> 10600
B28: 32 | C28: Materijalni rashodi | F28: 9290 | G28: 1310 | H28: =F28+G28 -> 10600
A29: A100103: Godišnje financiranje političkih stranaka | F29: =F33 -> 1328 | G29: =G33 -> 0 | H29: =H33 -> 1328
A30: Funkcijska klasifikacija: 011 Izvršna i zakonodavna tijela | F30: =F29 -> 1328 | G30: =G29 -> 0 | H30: =H29 -> 1328
A31: Izvor 01 Opći prihodi i primici | F31: =F29 -> 1328 | H31: 1328
A32: Izvor: 05 Pomoći
A33: 3 | C33: RASHODI POSLOVANJA | F33: =F34 -> 1328 | G33: =G34 -> 0 | H33: =H34 -> 1328
B34: 38 | C34: Ostali rashodi | F34: 1328 | H34: =F34+G34 -> 1328
A35: RAZDJEL 002 - JEDINSTVENI UPRAVNI ODJEL | F35: =F36+F108+F138+F175+F338+F370+F413 -> 1579372 | G35: =G36+G108+G138+G175+G338+G370+G413 -> 134233 | H35: =H36+H108+H138+H175+H338+H370+H413 -> 1713605
A36: GLAVA 00201 - JEDINSTVENI UPRAVNI ODJEL | F36: =F37+F100 -> 267101 | G36: =G37+G100 -> 0 | H36: =H37+H100 -> 267101
A37: Program: 1002 Priprema i donošenje akata iz djelokruga tijela | F37: =F38+F54+F67+F75+F83+F88+F93+F48+F60 -> 261623 | G37: =G38+G54+G67+G75+G83+G88+G93+G48+G60 -> 0 | H37: =H38+H54+H67+H75+H83+H88+H93+H48+H60 -> 261623
A38: A100201: Administrativno, tehničko i stručno osoblje | F38: =F42 -> 95001 | G38: =G42 -> 0 | H38: =H42 -> 95001
A39: Funkcijska klasifikacija: 013 Opće usluge | F39: =F38 -> 95001 | G39: =G38 -> 0 | H39: =H38 -> 95001
A40: Izvor: 01 Opći prihodi i primici | F40: 94071 | H40: 95001
A41: Izvor 05 Pomoći | F41: =F38-F40 -> 930
A42: 3 | C42: RASHODI POSLOVANJA | F42: =F43+F44+F45 -> 95001 | G42: =G43+G44+G45 -> 0 | H42: =H43+H44+H45 -> 95001
B43: 31 | C43: Rashodi za zaposlene | F43: 51429 | H43: =F43+G43 -> 51429
B44: 32 | C44: Materijalni rashodi | F44: 41222 | H44: =F44+G44 -> 41222
B45: 34 | C45: Financijski rashodi | F45: 2350 | H45: =F45+G45 -> 2350
A46: 4 | C46: RASHODI ZA NABAVU NEFINANCIJSKE IMOVINE
B47: 42 | C47: Rashodi za nabavu proizvedene dugotrajne imovine | H47: =F47+G47 -> 0
A48: A100209: Opremanje prostorija i nabava dugotrajne imovine | F48: =F52 -> 6106 | G48: =G52 -> 0 | H48: =H52 -> 6106
A49: Funkcijska klasifikacija: 013 Opće usluge | F49: =F48 -> 6106 | G49: =G48 -> 0 | H49: 6106
A50: Izvor 01 Opći prihodi i primici | F50: 0
A51: Izvor: 05 Pomoći | F51: =F48-F50 -> 6106 | H51: 6106
A52: 4 | C52: RASHODI ZA NABAVU NEFINANCIJSKE IMOVINE | F52: =F53 -> 6106 | G52: =G53 -> 0 | H52: =H53 -> 6106
B53: 42 | C53: Rashodi za nabavu proizvedene dugotrajne imovine | F53: 6106 | H53: =F53+G53 -> 6106
A54: A100202: Održavanje objekata u vlasništvu općine za redovno korištenje | F54: =F58 -> 81941 | G54: =G58 -> 0 | H54: =H58 -> 81941
A55: Funkcijska klasifikacija: 013 Opće usluge | F55: =F54 -> 81941 | G55: =G54 -> 0 | H55: =H54 -> 81941
A56: Izvor 01 Opći prihodi i primici | F56: 55396 | H56: 55396
A57: Izvor: 05 Pomoći | F57: 26545 | H57: 26545
A58: 3 | C58: RASHODI POSLOVANJA | F58: =F59 -> 81941 | G58: =G59 -> 0 | H58: =H59 -> 81941
B59: 32 | C59: Materijalni rashodi | F59: 81941 | H59: =F59+G59 -> 81941
A60: A100203: Izrada projektne dokumentacije | F60: =F65 -> 33181 | G60: =G65 -> 0 | H60: =H65 -> 33181
A61: Funkcijska klasifikacija: 013 Opće usluge | F61: =F60 -> 33181 | G61: =G60 -> 0 | H61: =H60 -> 33181
A62: Izvor 01 Opći prihodi i primici | F62: 29198 | H62: 29198
A63: Izvor: 07 prihodi od prodaje nef.imovine | F63: 1328 | H63: 1328
A64: Izvor: 05 Pomoći | F64: =F60-F62-F63 -> 2655 | H64: 2655
A65: 4 | C65: RASHODI ZA NABAVU NEFINANCIJSKE IMOVINE | F65: =F66 -> 33181 | G65: =G66 -> 0 | H65: =H66 -> 33181
B66: 42 | C66: Rashodi za nabavu proizvedene dugotrajne imovine | F66: 33181 | H66: =F66+G66 -> 33181
A67: A100204: Otplata dugoročnog kredita za izgradnju dječjeg vrtića | F67: =F71+F73 -> 30527 | G67: =G71+G73 -> 0 | H67: =H71+H73 -> 30527
A68: Funkcijska klasifikacija: 017 Transakcije vezane uz javni dug | F68: =F67 -> 30527 | H68: 30527
A69: Izvor: 05 pomoći | H69: 0
A70: Izvor: 01 Opći prihodi i primici | F70: =F67 -> 30527 | H70: 30527
A71: 3 | C71: RASHODI POSLOVANJA | F71: =F72 -> 664 | G71: =G72 -> 0 | H71: =H72 -> 664
B72: 34 | C72: Financijski rashodi | F72: 664 | H72: =F72+G72 -> 664
A73: 5 | C73: IZDACI ZA FINANCIJSKU IMOVINU I OTPLATE ZAJMOVA | F73: =F74 -> 29863 | G73: =G74 -> 0 | H73: =H74 -> 29863
B74: 54 | C74: Izdaci za otplatu glavnice primljenih kredita i zajmova | F74: 29863 | H74: =F74+G74 -> 29863
A75: A100205: Održavanje plovila i stočnih vaga za redovno korištenje | F75: =F79 -> 11017 | G75: =G79 -> 0 | H75: =H79 -> 11017
A76: Funkcijska klasifikacija: 013 Opće usluge | F76: =F75 -> 11017 | G76: =G75 -> 0 | H76: =H75 -> 11017
A77: Izvor: 05 Pomoći
A78: Izvor: 01 Opći prihodi i primici | F78: =F75 -> 11017 | H78: 11017
A79: 3 | C79: RASHODI POSLOVANJA | F79: =F80 -> 11017 | G79: =G80 -> 0 | H79: =H80 -> 11017
B80: 32 | C80: Materijalni rashodi | F80: 11017 | H80: =F80+G80 -> 11017
A81: 4 | C81: RASHODI ZA NABAVU NEFINANCIJSKE IMOVINE
B82: 45 | C82: Rahodi za dodatna ulaganja na nefinancijskoj imovini | H82: =F82+G82 -> 0
A83: A100206: Strategija, plan i registar imovine | F83: =F86 -> 1991 | G83: =G86 -> 0 | H83: =H86 -> 1991
A84: Funkcijska klasifikacija: 016 Opće javne usluge koje nisu drugdje svrstane | F84: =F83 -> 1991 | G84: =G83 -> 0 | H84: =H83 -> 1991
A85: Izvor: 01 Opći prihodi i primici | F85: =F83 -> 1991 | H85: 1991
A86: 3 | C86: RASHODI POSLOVANJA | F86: =F87 -> 1991 | G86: =G87 -> 0 | H86: =H87 -> 1991
B87: 32 | C87: Materijalni rashodi | F87: 1991 | H87: =F87+G87 -> 1991
A88: A100207: Održavanje aplikacije komunalne infrastrukture | F88: =F91 -> 664 | G88: =G91 -> 0 | H88: =H91 -> 664
A89: Funkcijska klasifikacija: 016 Opće javne usluge koje nisu drugdje svrstane | F89: =F88 -> 664 | G89: =G88 -> 0 | H89: =H88 -> 664
A90: Izvor: 01 Opći prihodi i primici | F90: =F88 -> 664 | H90: 664
A91: 3 | C91: RASHODI POSLOVANJA | F91: =F92 -> 664 | G91: =G92 -> 0 | H91: =H92 -> 664
B92: 32 | C92: Materijalni rashodi | F92: 664 | H92: =F92+G92 -> 664
A93: A100208: Transparentnost isplate iz proračuna | F93: =F96 -> 1195 | G93: =G96 -> 0 | H93: =H96 -> 1195
A94: Funkcijska klasifikacija: 016 Opće javne usluge koje nisu drugdje svrstane | F94: =F93 -> 1195 | G94: =G93 -> 0 | H94: =H93 -> 1195
A95: Izvor: 01 Opći prihodi i primici | F95: =F93 -> 1195 | H95: 1195
A96: 3 | C96: RASHODI POSLOVANJA | F96: =F97 -> 1195 | G96: =G97 -> 0 | H96: =H97 -> 1195
B97: 32 | C97: Materijalni rashodi | F97: 1195 | H97: =F97+G97 -> 1195
A98: 4 | C98: RASHODI ZA NABAVU NEFINANCIJSKE IMOVINE
B99: 42 | C99: Rashodi za nabavu proizvedene dugotrajne imovine
A100: Program: 1016 Aktivna politika zapošljavanja | F100: =F101 -> 5478 | G100: =G101 -> 0 | H100: =H101 -> 5478
A101: A101601: Javni radovi općine Novo Virje | F101: =F105 -> 5478 | G101: =G105 -> 0 | H101: =H105 -> 5478
A102: Funkcijska klasifikacija: 016 Opće javne usluge koje nisu drugdje svrstane | F102: =F101 -> 5478 | G102: =G101 -> 0 | H102: =H101 -> 5478
A103: Izvor: 01 Opći prihodi i primici | F103: 530 | H103: 530
A104: Izvor: 05 Pomoći | F104: =F101-F103 -> 4948 | H104: 4948
...

Sheet I. Izmjene

Sheet II. Izmjene
