Workbook

Sheet Proračun 2023
A1: Na temelju članka 42. stavka 1 Zakona o proračunu ("Narodne novine" broj 144/21) i članka 30. Statuta Općine Novo Virje ("Službeni glasnik Koprivničko - križevačke županije" broj 4/21.), Općinsko vijeću Općine Novo Virje na 15. sjednici održanoj 08. svibnja 2023. donijelo je
A3: I. IZMJENE PRORAČUNA OPĆINE NOVO VIRJE ZA 2023. GODINU
A4: I PROJEKCIJE ZA 2024. I 2025. GODINU
A6: I. OPĆI DIO
A8: Članak 1.
A10: U Proračun Općine Novo Virje za 2023. godinu i projekcijama za 2024. i 2025. ("Službeni glasnik Koprivničko - križevačke županije" broj 39/22 ) ( u daljnjem tekstu: Proračun) u članku 1. mijenja se: A. Račun prihoda i rashoda, B. Račun financiranja i C. Raspoloživa sredstva iz prethodnih godina, kako slijedi:
A12: A. RAČUN PRIHODA I RASHODA
E14: Plan Proračuna za 2023. | F14: Povećanje/ Smanjenje | G14: Novi Plan 2023.
E15: EUR | F15: EUR | G15: EUR
A16: 6) PRIHODI POSLOVANJA | E16: =E50 -> 1286752 | F16: =F50 -> -263923.95 | G16: =G50 -> 1022828.1
A17: 7) PRIHODI OD NEFINANCIJSKE IMOVINE | E17: =E66 -> 6637 | F17: =F66 -> 0 | G17: =G66 -> 6637
A18: UKUPNI PRIHODI | E18: =SUM(E16:E17) -> 1293389 | F18: =SUM(F16:F17) -> -263923.95 | G18: =SUM(G16:G17) -> 1029465.1
A19: 3) RASHODI POSLOVANJA | E19: =E69 -> 789602 | F19: =F69 -> 8088 | G19: =G69 -> 797690
A20: 4) RASHODI ZA NABAVU NEFINANCIJSKE IMOVINE | E20: =E77 -> 795910 | F20: =F77 -> 127455 | G20: =G77 -> 923365
A21: UKUPNI RASHODI | E21: =SUM(E19:E20) -> 1585512 | F21: =SUM(F19:F20) -> 135543 | G21: =SUM(G19:G20) -> 1721055
A22: RAZLIKA - VIŠAK/MANJAK | E22: =E18-E21 -> -292123 | F22: =F18-F21 -> -399466.95 | G22: =G18-G21 -> -691589.95
A24: B. RAČUN FINANCIRANJA
E26: Plan Proračuna za 2023. | F26: Povećanje/ Smanjenje | G26: Novi Plan 2023.
A27: 8) PRIMICI OD FINANCIJSKE IMOVINE I ZADUŽIVANJA | E27: =E83 -> 133 | F27: =F83 -> 0 | G27: =G83 -> 133
A28: 5) IZDACI ZA FINANCIJSKU IMOVINU I OTPLATE ZAJMOVA | E28: =E86 -> 29863 | F28: =F86 -> 0 | G28: =G86 -> 29863
A29: NETO ZADUŽIVANJE7FINANCICANJE | E29: =E27-E28 -> -29730 | F29: =F27-F28 -> 0 | G29: =G27-G28 -> -29730
A31: C. RASPOLOŽIVA SREDSTVA IZ PRETHODNIH GODINA
A33: VIŠAK PRIHODA I PRIMITAKA IZ PRETHODINIH GODINA | E33: 321853 | F33: 399466.95 | G33: =E33+F33 -> 721319.95
A39: Članak 2.
A41: U članku 2. prihodi i rashodi te primici i izdaci po ekonomskoj klasifikaciji utvrđeni u A. Računu prihoda i rashoda i B. Računu financiranja mijenjaju se kako slijedi:
A43: A. RAČUN PRIHODA I RASHODA
A45: Razred | E45: Plan Proračuna za 2023. EUR | F45: Povećanje/ Smanjenje | G45: Novi Plan 2023.
B46: Skupina
C47: Izvor | D47: Naziv
A49: 1 | B49: 2 | C49: 3 | D49: 4 | E49: 5 | F49: 6 | G49: 7
A50: 6 | D50: Prihodi poslovanja | E50: =E51+E53+E55+E58+E64+E61 -> 1286752 | F50: =F51+F53+F55+F58+F61+F64 -> -263923.95 | G50: =G51+G53+G55+G58+G61+G64 -> 1022828.1
B51: 61 | D51: Prihodi od poreza | E51: 82157 | G51: =E51+F51 -> 82157
C52: 01 | D52: Opći prihodi i primici | E52: 82157 | G52: =E52+F52 -> 82157
B53: 63 | D53: Pomoći iz inozemstva (darovnice) i od subjekata unutar općeg proračuna | E53: 490059 | F53: 795 | G53: =E53+F53 -> 490854
C54: 05 | D54: Pomoći | E54: =E53 -> 490059 | F54: 795 | G54: =E54+F54 -> 490854
B55: 64 | D55: Prihodi od imovine | E55: 642456 | F55: =F56+F57 -> -264718.95 | G55: =E55+F55 -> 377737.05
C56: 01 | D56: Opći prihodi i primici | E56: 642189 | F56: -264718.95 | G56: =E56+F56 -> 377470.05
C57: 04 | D57: Prihodi za posebne namjene | E57: 267 | G57: =E57+F57 -> 267
B58: 65 | D58: Prihodi od upravnih i administrativnih pristojbi, pristojbi po posebnim propisima i naknadama | E58: 70194 | G58: =E58+F58 -> 70194
C59: 01 | D59: Opći prihodi i primici | E59: 266 | G59: =E59+F59 -> 266
...

Sheet posebni dio
A1: II. POSEBNI DIO
A3: Članak 3.
A5: Rashodi poslovanja i rashodi za nabavu nefinancijske imovine u Proračunu u ukupnoj svoti 1.750.918,00 eura raspoređuju se po korisnicima i programima u Posebnom dijelu Proračuna, kako slijedi:
A7: Razred | F7: Proračun za 2023. | G7: Povećanje/ Smanjenje | H7: Novi Plan za 2023.
B8: Skupina
C10: Naziv
A11: 1 | B11: 2 | C11: 4 | F11: 5 | G11: 6 | H11: 7
A12: UKUPNO RASHODI I IZDACI | F12: =F13+F35 -> 1615375 | G12: =G13+G35 -> 135543 | H12: =H13+H35 -> 1750918
A13: RAZDJEL 001 - OPĆINSKI NAČELNIK I OPĆINSKO VIJEĆE | F13: =F14 -> 36003 | G13: =G14 -> 1310 | H13: =H14 -> 37313
A14: GLAVA 00101 - OPĆINSKI NAČELNIK I OPĆINSKO VIJEĆE | F14: =F15 -> 36003 | G14: =G15 -> 1310 | H14: =H15 -> 37313
A15: Program 1001: Donošenje akata i mjera iz djelokruga predstavničkog i izvršnog tijela | F15: =F16+F23+F29 -> 36003 | G15: =G16+G23+G29 -> 1310 | H15: =H16+H23+H29 -> 37313
A16: A100101: Predstavnička i izvršna tijela | F16: =F19 -> 25385 | G16: =G19 -> 0 | H16: =H19 -> 25385
A17: Funkcijska klasifikacija: 011 Izvršna i zakonodavna tijela | F17: =F16 -> 25385 | G17: =G16 -> 0 | H17: =H16 -> 25385
A18: Izvor: 01 Opći prihodi i primici | F18: =F16 -> 25385 | H18: 25385
A19: 3 | C19: RASHODI POSLOVANJA | F19: =F20+F21+F22 -> 25385 | G19: =G20+G21+G22 -> 0 | H19: =H20+H21+H22 -> 25385
B20: 31 | C20: Rashodi za zaposlene | F20: 19019 | H20: =F20+G20 -> 19019
B21: 32 | C21: Materijalni rashodi | F21: 3313 | G21: 372 | H21: =F21+G21 -> 3685
B22: 38 | C22: Ostali rashodi | F22: 3053 | G22: -372 | H22: =F22+G22 -> 2681
A23: A100102: Dani općine | F23: =F27 -> 9290 | G23: =G27 -> 1310 | H23: =H27 -> 10600
A24: Funkcijska klasifikacija: 082 Služba kulture | F24: =F23 -> 9290 | G24: =G23 -> 1310 | H24: =H23 -> 10600
A25: Izvor 01 Opći prihodi i primici | F25: =F23 -> 9290 | G25: 1310 | H25: 10600
A26: Izvor: 05 Pomoći
A27: 3 | C27: RASHODI POSLOVANJA | F27: =F28 -> 9290 | G27: =G28 -> 1310 | H27: =H28 -> 10600
B28: 32 | C28: Materijalni rashodi | F28: 9290 | G28: 1310 | H28: =F28+G28 -> 10600
A29: A100103: Godišnje financiranje političkih stranaka | F29: =F33 -> 1328 | G29: =G33 -> 0 | H29: =H33 -> 1328
A30: Funkcijska klasifikacija: 011 Izvršna i zakonodavna tijela | F30: =F29 -> 1328 | G30: =G29 -> 0 | H30: =H29 -> 1328
A31: Izvor 01 Opći prihodi i primici | F31: =F29 -> 1328 | H31: 1328
A32: Izvor: 05 Pomoći
A33: 3 | C33: RASHODI POSLOVANJA | F33: =F34 -> 1328 | G33: =G34 -> 0 | H33: =H34 -> 1328
B34: 38 | C34: Ostali rashodi | F34: 1328 | H34: =F34+G34 -> 1328
A35: RAZDJEL 002 - JEDINSTVENI UPRAVNI ODJEL | F35: =F36+F108+F138+F175+F338+F370+F413 -> 1579372 | G35: =G36+G108+G138+G175+G338+G370+G413 -> 134233 | H35: =H36+H108+H138+H175+H338+H370+H413 -> 1713605
A36: GLAVA 00201 - JEDINSTVENI UPRAVNI ODJEL | F36: =F37+F100 -> 267101 | G36: =G37+G100 -> 0 | H36: =H37+H100 -> 267101
A37: Program: 1002 Priprema i donošenje akata iz djelokruga tijela | F37: =F38+F54+F67+F75+F83+F88+F93+F48+F60 -> 261623 | G37: =G38+G54+G67+G75+G83+G88+G93+G48+G60 -> 0 | H37: =H38+H54+H67+H75+H83+H88+H93+H48+H60 -> 261623
A38: A100201: Administrativno, tehničko i stručno osoblje | F38: =F42 -> 95001 | G38: =G42 -> 0 | H38: =H42 -> 95001
A39: Funkcijska klasifikacija: 013 Opće usluge | F39: =F38 -> 95001 | G39: =G38 -> 0 | H39: =H38 -> 95001
A40: Izvor: 01 Opći prihodi i primici | F40: 94071 | H40: 95001
A41: Izvor 05 Pomoći | F41: =F38-F40 -> 930
A42: 3 | C42: RASHODI POSLOVANJA | F42: =F43+F44+F45 -> 95001 | G42: =G43+G44+G45 -> 0 | H42: =H43+H44+H45 -> 95001
B43: 31 | C43: Rashodi za zaposlene | F43: 51429 | H43: =F43+G43 -> 51429
B44: 32 | C44: Materijalni rashodi | F44: 41222 | H44: =F44+G44 -> 41222
...

Sheet I. Izmjene

Sheet II. Izmjene
